BEGIN:VCALENDAR
VERSION:2.0
PRODID:-//AgendaBulle//https://agendabulle.fr//
BEGIN:VEVENT
SUMMARY:Les Lundis Part'âgés de Prémol
DTSTART;TZID=Europe/Paris:20260511T140000
DTEND;TZID=Europe/Paris:20260511T160000
DTSTAMP:20260422T222048Z
UID:e5b72f41f4e2e4b6fa3702bac3257dc3@agendabulle.fr
DESCRIPTION:Venez passer des moments conviviaux de partage autour d’une 
 activité commune. Des arts créatifs\, bricolage\, cuisine et bien d'autr
 es\, venez apprendre\, transmettre votre savoir-faire et faire ensemble da
 ns une ambiance ouverte et bienveillante. Ces activités sont souvent sur 
 inscription. 7 Rue Henry Duhamel 38100 Grenoble Secteur 6\nhttp://www.agen
 dabulle.fr/event/2026/5/11/2398-les-lundis-partages-de-premol\nhttps://www
 .grenoble.fr/agenda/5886/622-les-lundis-part-ages-de-premol.htm
IMAGE;VALUE=URI:http://www.agendabulle.fr/media/c50d4b83-62c3-4648-82e8-4c
 671b4d2cf6.jpg
LOCATION:Maison des Habitant-es Prémol\, 7 Rue Henry Duhamel 38100 Grenob
 le\, Grenoble
NAME:Les Lundis Part'âgés de Prémol
END:VEVENT
END:VCALENDAR
