BEGIN:VCALENDAR
VERSION:2.0
PRODID:-//Agenda Bulle//https://agendabulle.fr//
BEGIN:VEVENT
SUMMARY:Rencontres du soin militant : RACINES (Rencontres Autonome du Care
  pour une INclusion Emancipatrice et Sociale)
DTSTART;TZID=Europe/Paris:20260510T180000
DTEND;TZID=Europe/Paris:20260510T200000
DTSTAMP:20260426T031906Z
UID:6f56bef492269befaf130343e0698e2f@agendabulle.fr
DESCRIPTION:Bonjour à tou·tes !\n\nLes Rencontres du soin militant sont 
 des espaces de rencontre réguliers de l'Agglo grenobloise autour du care 
 au service des luttes. Notre volonté est que toutes les personnes qui ont
  envie de parler de soin militant\, de care\, d'inclusivité des luttes et
  dans les luttes aient un espace pour. L'idée ça peut être de se coordo
 nner entre les différents groupes affinitaires et autres collectifs qui p
 roposent du soin dans les luttes à Grenoble. Mais c'est aussi que chacun
 ·e\, même sans faire partie d'un groupe ou quoi\, puisse participer aux 
 discussions générales sur les besoins de nos milieux\, ce qu'on pourrait
  imaginer\, ce qui manque\, ce qu'on fait bien ou qu'on peut améliorer...
  On espère qu'il pourra aussi en naître des envies de monter des projets
  ! L'objectif est de tendre vers un maximum d'inclusivité et de permettre
  a chacun·e de trouver une place dans le milieu. L'idée est notamment qu
 e quiconque puisse formuler des besoins spécifiques (soit directement à 
 la rencontre\, soit via un document anonyme en ligne (https://cryptpad.fr/
 pad/#/2/pad/edit/6uPHBCuJEQVMsrc3SSdo-DUA/) ou via un·e personne relai pa
 r exemple) et que l'AG réfléchisse à le mettre en oeuvre (évaluer la d
 emande\, la confronter à d'autres besoins similaire ou contradictoires\, 
 comment y répondre et dans quelle mesure\, etc.).\n\nCes rencontres prenn
 ent concrètement la forme d'une réunion tous les 10 jours\, entièrement
  ouvertes à toute personne ou collectif qui se reconnait dans une charte 
 simple et courte. Vous la trouverez  au bout de ce lien (en lecture seule
 \, 2 pages écrites) : https://cryptpad.fr/pad/#/2/pad/view/hpQsWrIq5IGFVO
 phhmKD24I-uqi+D4KH1PzdLteQC5E/\n\nCes rencontres\, aussi appelées RACINES
  (Rencontres Autonome du Care pour une INclusion Emancipatrice et Sociale)
  espèrent être les racines de plein d'initiatives collectives qui tendra
 ient à favoriser l'inclusivité réelle dans les luttes pour les massifie
 r et les radicaliser. En effet\, on a en commun de vouloir participer au p
 rocessus de transformation sociale vers l'émancipation de chacun·e et to
 u·tes. En faisant en sorte que de plus en plus de personnes militent\, de
  manière plus en plus engageante (= s'impliquer plus)\, radicale\, et pé
 renne dans le temps. Ce qui nécessite qu'elles apprécient de militer et 
 que ce soit moins coûteux pour elles psychologiquement/psycho-émotionnel
 lement (cognition et émotions) et matériellement notamment. Il y a plein
  de manière d'oeuvrer à cela. Idéalement\, oeuvrer à cela d'une maniè
 re empouvoirante qui fait que les personnes et collectifs aient de moins e
 n moins "besoin" de personnes extérieures pour s'améliorer sur ces quest
 ions.\n\nN'hésitez pas à en parler autour de vous si vous en avez envie 
 et/ou sur vos réseaux\, etc.\n\nÀ bientôt ! Et pis bin avec ou sans RAC
 INES prenons soin les un·es des autres pour abattre ce système de merde 
 !\n\nDates : le 10\, le 20 et le 30 de chaque mois (et le dernier jour de 
 février) Horaires : - 18h-19h : accueil et/ou début de discussions (sans
  prises de décisions)\, - 19h : ordre du jour (ODJ) commun (possible d'ar
 river après\, mais vous rejoindrez les discussions en cours de route et n
 e serez pas consulté·es par rapport à l'ODJ)\, - 19h-21h : traitement d
 e l'ODJ\, discussions\, etc. (prises de décisions uniquement lors de ce c
 réneau-là)\, - possibilité de partir plus tôt\, ou de rester plus tard
  pour papoter si la personne qui ferme le lieu est d'accord pour le fermer
  un peu plus tard :)\n\nPossibilité d'amener à boire et à grignoter à 
 partager ! (sans alcool)\n\nLieux des prochaines rencontres : - Le 30/04 :
  à l'Université Autogérée\, 921 rue des Résidences - 38400 Saint-Mart
 in-d’Hères - Le 10/05 : à Antigone\, 22 rue des violettes - 38100 Gren
 oble - Le 20/05 : au Lîeu\, 17 rue Abbé Grégoire - 38000 Grenoble - Le 
 30/05 : au Local Autogéré\, 7 rue Pierre Dupont - 38100 Grenoble\n\n( Ac
 cès PMR selon le lieu)\nhttps://www.agendabulle.fr/event/2026/5/10/2577-r
 encontres-du-soin-militant-racines-rencontres-autonome-du-care-pour-une-in
 clusion-emancipatrice-et-sociale\nhttps://www.le-tamis.info/evenement/renc
 ontres-du-soin-militant-racines-rencontres--9
LOCATION:Antigone\, 22 Rue des Violettes\, Grenoble
NAME:Rencontres du soin militant : RACINES (Rencontres Autonome du Care po
 ur une INclusion Emancipatrice et Sociale)
END:VEVENT
END:VCALENDAR
