BEGIN:VCALENDAR
VERSION:2.0
PRODID:-//AgendaBulle//https://agendabulle.fr//
BEGIN:VEVENT
SUMMARY:Permanence d'Antigone
DTSTART;TZID=Europe/Paris:20260510T170000
DTEND;TZID=Europe/Paris:20260510T190000
DTSTAMP:20260420T131837Z
UID:ab672243761b13f3123d8c72209cf8b5@agendabulle.fr
DESCRIPTION:Antigone est une bibliothèque-café-librairie autogérée fon
 ctionnant sans subvention\, située au 22 rue des violettes\, 38100 Grenob
 le (arrêt Vallier-Catane ou Vallier-Docteur Calmette).\n\nDes permanences
  sont tenues deux fois par semaine : le mercredi de 18h30 à 21h30 et le d
 imanche de 17h à 20h (on ne met que deux permanences par mois sur Le Tami
 s pour ne pas surcharger l'agenda\, mais les permanences ont bien lieu cha
 que semaine !) .\n\nDes événements réguliers ont lieu à Antigone (club
  lecture et club poésie une fois par mois)\, ainsi que des événements t
 emporaires\, en moyenne deux fois par mois (conférences\, rencontres d'au
 teurices\, projection\, fête...). L’adhésion est à prix libre.\n\nPou
 r en savoir plus sur le lieu\, consultez notre site . Le catalogue de la b
 ibliothèque est également disponible en ligne \, ainsi que celui de la l
 ibrairie .\nhttp://www.agendabulle.fr/event/2026/5/10/2329-permanence-dant
 igone\nhttps://www.le-tamis.info/evenement/permanence-dantigone-7
LOCATION:Antigone\, 22 Rue des Violettes\, Grenoble
NAME:Permanence d'Antigone
END:VEVENT
END:VCALENDAR
