BEGIN:VCALENDAR
VERSION:2.0
PRODID:-//AgendaBulle//https://agendabulle.fr//
BEGIN:VEVENT
SUMMARY:Assemblée d'Extinction Rebellion Grenoble
DTSTART;TZID=Europe/Paris:20260501T190000
DTEND;TZID=Europe/Paris:20260501T210000
DTSTAMP:20260422T224447Z
UID:212e3672823575c8555c29d077008f7a@agendabulle.fr
DESCRIPTION:Le collectif Extinction Rebellion Grenoble \, l'antenne locale
  du mouvement international Extinction Rebellion \, organise une assemblé
 e pour préparer les actions à venir.\nhttp://www.agendabulle.fr/event/20
 26/5/1/2465-assemblee-dextinction-rebellion-grenoble\nhttps://www.le-tamis
 .info/evenement/assemblee-dextinction-rebellion-grenoble-1
LOCATION:Collectif Voisin\, Place André Charpin\, Grenoble
NAME:Assemblée d'Extinction Rebellion Grenoble
END:VEVENT
END:VCALENDAR
