BEGIN:VCALENDAR
VERSION:2.0
PRODID:-//AgendaBulle//https://agendabulle.fr//
BEGIN:VEVENT
SUMMARY:Fabul(eux)
DTSTART;TZID=Europe/Paris:20260501T203000
DTEND;TZID=Europe/Paris:20260501T220000
DTSTAMP:20260421T185154Z
UID:8c5ca5528aae17afc9caae973ec01d0c@agendabulle.fr
DESCRIPTION:Spectacle de théâtre interactif pour discuter de santé ment
 ale lors de temps de médiations animés par une psychologue\nhttp://www.a
 gendabulle.fr/event/2026/5/1/2365-fabuleux\nhttps://www.helloasso.com/asso
 ciations/atelier-du-8/evenements/fabul-eux
LOCATION:l'Atelier du 8\, 2 Rue Raymond Bank\, 38000 Grenoble\, Grenoble
NAME:Fabul(eux)
END:VEVENT
END:VCALENDAR
