BEGIN:VCALENDAR
VERSION:2.0
PRODID:-//AgendaBulle//https://agendabulle.fr//
BEGIN:VEVENT
SUMMARY:🌟GRENOBLE : FRIPE A PARTIR DE 2€\, CREATEUR.ICES\, TATTOO..
DTSTART;TZID=Europe/Paris:20260501T110000
DTEND;TZID=Europe/Paris:20260502T190000
DTSTAMP:20260420T022240Z
UID:3d1f4b27b23d9a869231c472bddaaab4@agendabulle.fr
DESCRIPTION:Le Piou Piou Market arrive avec sa méga sélection vintage et
  seconde main à partir de 2 €\, son marché de créateur·ices et artis
 an·es et son coin beauté dédié au selfcare et à la créativité ✨\n
 \n\n🧥 VINTAGE ET SECONDE MAIN\n\nPlus d’une tonne de pépites vous at
 tend :\nRobe\, top\, pantalon Y2K\, bijoux\, sweat\, t-shirt\, jean… A p
 artir de 2€ seulement !\nVous trouverez aussi notre corner pièces rares
  & marques\, avec trenchs\, cuirs et sélections stylées — toujours à 
 petits prix\n\nRESTOCK EN CONTINU\n\n\n🎨 CREATEUR.ICES & ARTISAN.ES🎨
 \n\nMode\, déco\, bijoux\, objets uniques…\nVenez découvrir le travail
  exceptionnel de créateur·ices indépendant·es et d’artisan·es locau
 x 🌿\n\n\n💅 Espace Beauté\n\nExprime ta créativité avec :\n ✨ Ta
 touages flash\n ✨ Strass dentaire\n ✨ Nail art\n Un coin 100 % selfcar
 e pour briller à ta façon 💖\n\n\n🔖 Infos Pratiques 🔖\n\n📍 Li
 eu : Le Minimistan\, Cour Marcel Reymond\, Rue des Minimes\, 38000 Grenobl
 e\n🗓️ Dates : du 1 au 2 Mai 2026\n⏰ Horaires : 11h00 – 19h00\n\n
 🌟 Profite de -10% en rejoignant notre communauté ! 💌✨\n\n🎟️ 
 Entrée gratuite\n🛍️ Activités & achats payants\n💳Paiement par ca
 rte à partir de 5€ \n\nSuivez-nous sur TikTok & Instagram pour ne rien 
 manquer !\n\nhttp://www.agendabulle.fr/event/2026/5/1/2264-grenoble-fripe-
 a-partir-de-2-createurices-tattoo\nhttps://www.facebook.com/events/2656021
 7133573376/
IMAGE;VALUE=URI:http://www.agendabulle.fr/media/a2d0bacc-3702-486f-884d-45
 280fb83fb8.jpg
LOCATION:Minimistan\, 1 rue des minimes\, grenoble
NAME:🌟GRENOBLE : FRIPE A PARTIR DE 2€\, CREATEUR.ICES\, TATTOO..
END:VEVENT
END:VCALENDAR
