BEGIN:VCALENDAR
VERSION:2.0
PRODID:-//Agenda Bulle//https://agendabulle.fr//
BEGIN:VEVENT
SUMMARY:Atelier aquarelle
DTSTART;TZID=Europe/Paris:20260430T160000
DTEND;TZID=Europe/Paris:20260430T173000
DTSTAMP:20260426T031524Z
UID:3ee6595c808e9513f5af13af44441f73@agendabulle.fr
DESCRIPTION:Thème : Printemps !\n\nAtelier mêlant dessin et aquarelle en
  prenant quelques exemples sur ce qui pousse sur le toit du Bar Radis ! To
 us niveaux et le matériel est fourni \;)\n\nPar Daphné J.\nTous niveaux.
  \nTarifs :  solidaire : 5€ / normal : 15€ / soutient : 25€\nSur ins
 cription au  06 34 60 40 49\n \n \n\n☕ Cette animation a lieu durant les
  temps du café associatif\, nous demandons une adhésion pour pouvoir con
 sommer. L’adhésion est à prix libre (dès 0€). N’hésitez pas à v
 enir en avance\, si vous souhaitez adhérer ou consommer au café asso ! V
 ous pouvez dès-à-présent adhérer via ce lien : https://www.helloasso.c
 om/associations/cultivons-nos-toits/adhesions/adhesion-annuelle-2026 ☕\n
 \nhttps://www.agendabulle.fr/event/2026/4/30/2563-atelier-aquarelle\nhttps
 ://www.facebook.com/events/1569801604312298/
IMAGE;VALUE=URI:https://www.agendabulle.fr/media/9e5f671a-b1ef-4c79-9b68-f
 17510b35cc6.jpg
LOCATION:Le Bar Radis\, 15 rue Gustave Flaubert\, grenoble
NAME:Atelier aquarelle
END:VEVENT
END:VCALENDAR
