BEGIN:VCALENDAR
VERSION:2.0
PRODID:-//AgendaBulle//https://agendabulle.fr//
BEGIN:VEVENT
SUMMARY:H-Burns & The Stranger Quartet | Hommage à Leonard Cohen + Barkan
 an à La Belle Électrique
DTSTART;TZID=Europe/Paris:20260430T200000
DTEND;TZID=Europe/Paris:20260430T220000
DTSTAMP:20260422T221824Z
UID:f347920b9415c0358a4a5771a50951ee@agendabulle.fr
DESCRIPTION:• 𝗛-𝗕𝗨𝗥𝗡𝗦 & 𝗧𝗛𝗘 𝗦𝗧𝗥𝗔
 𝗡𝗚𝗘𝗥 𝗤𝗨𝗔𝗥𝗧𝗘𝗧\n\nDix ans après la dispari
 tion du poète canadien\, le Français H-Burns rend un hommage à la fois 
 personnel et collectif à Leonard Cohen\, accompagné par un quatuor à co
 rdes.\n\nAuteur\, compositeur et interprète\, H-Burns arpente depuis prè
 s de 20 ans les scènes musicales\, guitare à la main. C’est sur des mu
 siques folk-rock que sa voix chaude et suave s’est fait connaître\, inf
 luencée par les monstres sacrés des sixties que sont Bob Dylan et Bruce 
 Springsteen. Avec Burns on the Wire\, il rend hommage à Leonard Cohen aut
 our d’une sélection de titres incontournables qui ont fait le succès d
 e ses premiers albums. Il est accompagné de son ami multi-instrumentiste 
 et arrangeur Antoine Pinet. Pour les cordes et les voix\, il sera entouré
  des femmes virtuoses réunies dans le Stranger Quartet. Leurs voix claire
 s\, mélodieuses et pénétrantes se mêleront avec justesse à celle d’
 H-Burns.\nUn savoureux mélange qui\, loin de dénaturer les œuvres origi
 nelles\, apporte ce qu’il faut de corps\, de puissance et de mélancolie
  aux compositions du poète canadien.\n\n➡️ Distribution :\nGuitare\, 
 chant : Renaud Brustlein\nBatterie\, clavier : Antoine Pinet\nViolons : Pa
 uline Denize\, Mélie Fraisse\nViolon alto\, guitare : Lonny\nVioloncelle\
 , basse\, chant : Ysé\n\n➡️ Répertoire :\nSongs of Leonard Cohen (19
 67)\nSongs From A Room (1969)\nSongs of Love and Hate (1971)\nLive Songs (
 1973)\nNew Skin for The Old Ceremony (1974)\n\n🔊 https://www.youtube.co
 m/watch?v=r9EGLYPgN4k\n\n--------------------------\n\n• 𝗕𝗔𝗥
 𝗞𝗔𝗡𝗔𝗡\n\nBarkanan\, c’est Ianis et Léo\, deux frères au
 teurs-compositeurs\, multi-instrumentistes\, dont la folk convoque à la f
 ois l’intime et les grands espaces. Comme pour mieux envelopper la voix 
 haut perchée de Ianis\, Léo invite la guitare\, le piano et la batterie\
 , tels des amis rassurants\, tout en subtilité. Ils empruntent le nom Bar
 kanan à l’un de leurs lointains aïeux et forment un duo de musique dè
 s 2021. S’ils publient d’abord un recueil de chansons autoproduit\, c
 ’est à l’automne 2024 que paraît leur véritable premier EP nommé 
 « La traversée »\, mixé par Clément Roussel (November Ultra\, Voyou\,
  Pépite\, ...) et masterisé par Alex Gopher.\n\nSymbole d’un mouvement
 \, d’une avancée\, l’idée de traversée transcende les esprits. C’
 est un saut vers l’inconnu\, vers la découverte. Traverser le temps\, l
 es difficultés\, les émotions. Les siennes\, celles des autres. Ne pas r
 ester statique\, traverser les choses pour saisir leur complexité. Vivre 
 la traversée comme une construction. Sur scène l’on retient son souffl
 e avant d’oser applaudir à la fin des chansons\, de peur de rompre le c
 harme. Leurs deux voix\, l’une grave\, l’autre dans les aiguës\, s’
 accordent dans une naturelle fraternité. C’est la signature saillante d
 e leur folk très actuelle.\n\n🔊 https://www.youtube.com/watch?v=dCpWQf
 QU2P0\n\n--------------------------\n\n🔸 En savoir plus : https://www.l
 a-belle-electrique.com/fr/agenda/h-burns\n\n🎫 BILLETTERIE :  https://bi
 lletterie.la-belle-electrique.com/agenda/650-H-Burns-The-Stranger-Quartet?
 session=650\n\n©Marie Monteiro\n\n\n▬▬▬▬ LE LIEU DE VIE EN BREF 
 ▬▬▬▬\n\n• 🕑 Du mardi au samedi de 10h à 01h\, mais égalemen
 t les autres jours à partir de 18h si un concert est programmé.\n\n• 
 📅 La programmation du bar ce sont : des concerts\, des Djs sets\, des e
 xpositions...!\n\n• 🍔 🍷 En soirée pour vos apéros\, l'équipe du
  bar vous propose sa carte de bières locales et cocktails ainsi que des a
 ppetizers à déguster sur place. Profitez-en !\n\n▬▬▬▬▬\n\n✓ 
 OUVERTURE des portes à 19h\, début du concert à 20h.\n✓ TRANSPORTS EN
  COMMUN : tramway A ou bus C5 arrêt “Berriat - Le Magasin”. / Train :
  Depuis la Gare de Grenoble\, tramway A en direction de “Fontaine La Poy
 a”.\n✓ VÉLO : 300 arceaux disponibles.\n✓ VOITURE : Parking relais 
 Vallier Catane ➣ https://bit.ly/3eM8vff / Square des Fusillés / Proche 
 rue Ampère\n✓ Questions billetterie : accueil.billetterie@la-belle-elec
 trique.com\n✓ Horaires accueil billetterie : du mercredi au vendredi de 
 16h à 18h.\nhttp://www.agendabulle.fr/event/2026/4/30/2391-h-burns-the-st
 ranger-quartet-hommage-a-leonard-cohen-barkanan-a-la-belle-electrique\nhtt
 ps://www.facebook.com/events/1801066627254183/
IMAGE;VALUE=URI:http://www.agendabulle.fr/media/834149c4-c6e8-40b2-b371-83
 5b418bd806.jpg
LOCATION:La belle electrique\, 12 esplanade Andry Farcy\, Grenoble
NAME:H-Burns & The Stranger Quartet | Hommage à Leonard Cohen + Barkanan 
 à La Belle Électrique
END:VEVENT
END:VCALENDAR
