BEGIN:VCALENDAR
VERSION:2.0
PRODID:-//AgendaBulle//https://agendabulle.fr//
BEGIN:VEVENT
SUMMARY:Concert de Soalo au Centre Hospitalier Alpes-Isère
DTSTART;TZID=Europe/Paris:20260430T143000
DTEND;TZID=Europe/Paris:20260430T163000
DTSTAMP:20260422T221824Z
UID:a699338e95e6b1e593a473c41c711328@agendabulle.fr
DESCRIPTION:🎤🎵 // #événement à venir · Concert de Saolo au Centr
 e Hospitalier Alpes-Isère //\n\nLe jeudi 30 avril 2026 à 14h30\, le Cent
 re Hospitalier Alpes-Isère organisera en partenariat avec La Belle Electr
 ique un concert gratuit sur son site de Saint-Égrève. \n\nCe concert s
 ’inscrit dans le programme culturel “𝙇𝙚𝙨 𝙎𝙖𝙞𝙨𝙤
 𝙣𝙨 𝙙𝙚 𝙡𝙖 𝘾𝙪𝙡𝙩𝙪𝙧𝙚”\, mis en place 
 cette année par le Centre Hospitalier Alpes-Isère\, dont le but est de f
 aire vivre la culture tout au long de l’année en programmant de nombreu
 x événements culturels et festifs. \n\nPour le printemps\, un atelier de
  programmation a été organisé avec les bénéficiaires de soins de l’
 Unité Tony Lainé\, durant lequel ces derniers ont choisi l’artiste 
 𝗦𝗼𝗮𝗹𝗼\, pour un concert dans le 𝗽𝗮𝗿𝗰 𝗱𝘂 
 𝗖𝗛𝗔𝗜. \n\n👉 𝘚𝘰𝘢𝘭𝘰 𝘦𝘴𝘵 𝘶𝘯 𝘴
 𝘢𝘶𝘵 𝘥𝘢𝘯𝘴 𝘭𝘢 𝘱𝘪𝘴𝘤𝘪𝘯𝘦 𝘦
 𝘯 𝘱𝘭𝘦𝘪𝘯𝘦 𝘤𝘢𝘯𝘪𝘤𝘶𝘭𝘦. 𝘋𝘶
 𝘰 𝘱𝘰𝘱-𝘶𝘳𝘣𝘢𝘪𝘯 𝘱𝘶𝘪𝘴𝘢𝘯𝘵 
 𝘴𝘦𝘴 𝘪𝘯𝘧𝘭𝘶𝘦𝘯𝘤𝘦𝘴 𝘥𝘢𝘯𝘴 
 𝘭𝘦 𝘩𝘪𝘱-𝘩𝘰𝘱 𝘢𝘮𝘦́𝘳𝘪𝘤𝘢𝘪𝘯\
 , 𝘭’𝘢𝘧𝘳𝘰𝘣𝘦𝘢𝘵 𝘦𝘵 𝘭𝘦𝘴 𝘮𝘶
 𝘴𝘪𝘲𝘶𝘦𝘴 𝘭𝘢𝘵𝘪𝘯𝘦𝘴\, 𝘚𝘰𝘢𝘭
 𝘰 𝘴𝘰𝘶𝘧𝘧𝘭𝘦 𝘶𝘯 𝘷𝘦𝘯𝘵 𝘥𝘦 𝘧
 𝘳𝘢𝘪̂𝘤𝘩𝘦𝘶𝘳 𝘴𝘶𝘳 𝘭𝘦𝘴 𝘥𝘢𝘯
 𝘤𝘦𝘧𝘭𝘰𝘰𝘳𝘴 𝘦𝘵 𝘥𝘢𝘯𝘴 𝘭𝘦𝘴 
 𝘤𝘩𝘪𝘭𝘭-𝘰𝘶𝘵.\n\n🚨 Réservez dès maintenant la da
 te du 𝗷𝗲𝘂𝗱𝗶 𝟯𝟬 𝗮𝘃𝗿𝗶𝗹 dans votre agenda
  : nous vous attendons nombreux et nombreuses pour ce temps musical !\n\n
 𝗟𝗲𝘀 𝗶𝗻𝗳𝗼𝘀 𝗽𝗿𝗮𝘁𝗶𝗾𝘂𝗲𝘀 
 𝗽𝗼𝘂𝗿 𝗰𝗲 𝗰𝗼𝗻𝗰𝗲𝗿𝘁 : \n➡️ Jeudi 30
  avril 2026 à 14h30\, dans le parc du CHAI (à côté de la cafétéria -
  bâtiment n°24)\n➡️ Concert à destination de toutes et tous : grand
  public\, bénéficiaires de soins\, familles\, proches\, professionnels d
 u CHAI…\n➡️ Entrée libre et gratuite\n➡️ Pour tout renseignemen
 t : communication@ch-alpes-isere.fr \n➡️ Pour télécharger l’affich
 e : https://ch-alpes-isere.fr/wp-content/uploads/2026/03/Affiche-Concert-S
 oalo-Centre-Hospitalier-Alpes-Isere-30-avril-2026.pdf \n\n#culture #santé
  #concert #musique\nhttp://www.agendabulle.fr/event/2026/4/30/2390-concert
 -de-soalo-au-centre-hospitalier-alpes-isere\nhttps://www.facebook.com/even
 ts/2939228426280448/
IMAGE;VALUE=URI:http://www.agendabulle.fr/media/abb04e65-26e1-433e-85f8-0e
 85d15e6da1.jpg
LOCATION:Centre hospitalier Alpes-Isère\, 3 Rue de la Gare\, Saint-Égrè
 ve
NAME:Concert de Soalo au Centre Hospitalier Alpes-Isère
END:VEVENT
END:VCALENDAR
