BEGIN:VCALENDAR
VERSION:2.0
PRODID:-//AgendaBulle//https://agendabulle.fr//
BEGIN:VEVENT
SUMMARY:« Un silence si bruyant »
DTSTART;TZID=Europe/Paris:20260430T193000
DTEND;TZID=Europe/Paris:20260430T213000
DTSTAMP:20260421T101644Z
UID:0bd73ee4bdab45ba900c2558d409b8ff@agendabulle.fr
DESCRIPTION:🎬 Projection solidaire – « Un silence si bruyant »\n\nS
 oroptimist vous invitent à une soirée exceptionnelle autour du film docu
 mentaire d’Emmanuelle Béart et Anastasia Mikova\, au profit de SOS Ince
 ste Pour REVIVRE.\n\n📅 Jeudi 30 avril à 19h30 📍 Pathé Échirolles 
 – 4 rue Albert Londres\, 38130 Échirolles\n\nÀ l’issue de la project
 ion\, un échange aura lieu avec :\n\n🎟️ Tarifs : • Tarif soutien :
  15 € • Tarif solidaire : 5€\n\n➡️ Inscriptions via HelloAsso (Q
 R code)\n\nhttps://www.helloasso.com/associations/soroptimist-internationa
 l-de-grenoble/evenements/soiree-cinema-un-silence-si-bruyant-2\n\n➡️ P
 aiement possible sur place\n\nL’intégralité des bénéfices sera rever
 sée à SOS Inceste Pour REVIVRE.\n\nParce que briser le silence est une 
 étape essentielle pour protéger les victimes et faire évoluer la socié
 té.\nhttp://www.agendabulle.fr/event/2026/4/30/2360-un-silence-si-bruyant
 \nhttps://www.echirolles.fr/evenements/9092-un-silence-si-bruyant
IMAGE;VALUE=URI:http://www.agendabulle.fr/media/6ad39c84-8be5-4a12-8cf3-e4
 23fd0a5ccb.jpg
LOCATION:Pathé Echirolles\, 4 Rue Albert Londres\, 38130 Échirolles\, É
 chirolles
NAME:« Un silence si bruyant »
END:VEVENT
END:VCALENDAR
