BEGIN:VCALENDAR
VERSION:2.0
PRODID:-//AgendaBulle//https://agendabulle.fr//
BEGIN:VEVENT
SUMMARY:Apéro WWOOF
DTSTART;TZID=Europe/Paris:20260430T183000
DTEND;TZID=Europe/Paris:20260430T203000
DTSTAMP:20260420T131839Z
UID:57ee7084ccca085fc683a40474415384@agendabulle.fr
DESCRIPTION:Description Ce sera l'occasion d'échanger autour d'un verre a
 vec différents membres de l'association. Des adhérents expérimentés ou
  en devenir\, des fermes accueillantes\, des membres de l'équipe WWOOF\, 
 ou tout simplement curieux·ses\, vous êtes tous et toutes les bienvenu·
 e·s ! N'hésitez pas à en parler autour de vous et à nous rejoindre nom
 breuses et nombreux. Vous pourrez partager vos retours d'expériences\, di
 scuter des projets de l'association\, donner vos conseils pour un WWOOFing
  réussi et bien d'autres choses encore ! Mais le WWOOFing qu’est-ce que
  c’est? C’est un mouvement qui cherche à rassembler autour de pratiqu
 es agricoles et de modes de vie respectueux du vivant L’objectif est d
 ’encourager la transmission des savoirs paysans\, les échanges culturel
 s et la solidarité\, le tout dans une logique d’entraide non-consuméri
 ste Concrètement\, les WWOOFeurs partagent la vie quotidienne de leurs h
 ôtes de quelques jours à quelques semaines. Ils découvrent un territoir
 e\, des pratiques agro-écologiques et les habitants qui les font vivre.\n
 http://www.agendabulle.fr/event/2026/4/30/2345-apero-wwoof\nhttps://www.le
 -tamis.info/evenement/apero-wwoof
LOCATION:La base\, 17 rue du Dauphiné\, Grenoble
NAME:Apéro WWOOF
END:VEVENT
END:VCALENDAR
