BEGIN:VCALENDAR
VERSION:2.0
PRODID:-//AgendaBulle//https://agendabulle.fr//
BEGIN:VEVENT
SUMMARY:Rencontres du soin militant : RACINES (Rencontres Autonome du Care
  pour une INclusion Emancipatrice et Sociale)
DTSTART;TZID=Europe/Paris:20260430T180000
DTEND;TZID=Europe/Paris:20260430T200000
DTSTAMP:20260420T131837Z
UID:3c2331e9ba39658a34fbc84ed3c8f01f@agendabulle.fr
DESCRIPTION:Bonjour à tou·tes !\n\nLes Rencontres du soin militant sont 
 des espaces de rencontre réguliers de l'Agglo grenobloise autour du care 
 au service des luttes. Notre volonté est que toutes les personnes qui ont
  envie de parler de soin militant\, de care\, d'inclusivité des luttes et
  dans les luttes aient un espace pour. L'idée ça peut être de se coordo
 nner entre les différents groupes affinitaires et autres collectifs qui p
 roposent du soin dans les luttes à Grenoble. Mais c'est aussi que chacun
 ·e\, même sans faire partie d'un groupe ou quoi\, puisse participer aux 
 discussions générales sur les besoins de nos milieux\, ce qu'on pourrait
  imaginer\, ce qui manque\, ce qu'on fait bien ou qu'on peut améliorer...
  On espère qu'il pourra aussi en naître des envies de monter des projets
  ! L'objectif est de tendre vers un maximum d'inclusivité et de permettre
  a chacun·e de trouver une place dans le milieu. L'idée est notamment qu
 e quiconque puisse formuler des besoins spécifiques (soit directement à 
 la rencontre\, soit via un document anonyme en ligne (https://cryptpad.fr
 /pad/#/2/pad/edit/6uPHBCuJEQVMsrc3SSdo-DUA/) ou via un·e personne relai p
 ar exemple) et que l'AG réfléchisse à le mettre en oeuvre (évaluer l
 a demande\, la confronter à d'autres besoins similaire ou contradictoires
 \, comment y répondre et dans quelle mesure\, etc.).\n\nCes rencontres pr
 ennent concrètement la forme d'une réunion tous les 10 jours\, entièrem
 ent ouvertes à toute personne ou collectif qui se reconnait dans une char
 te simple et courte. Vous la trouverez  au bout de ce lien (en lecture se
 ule\, 2 pages écrites) : https://cryptpad.fr/pad/#/2/pad/view/hpQsWrIq5IG
 FVOphhmKD24I-uqi+D4KH1PzdLteQC5E/\n\nCes rencontres\, aussi appelées RACI
 NES (Rencontres Autonome du Care pour une INclusion Emancipatrice et Socia
 le) espèrent être les racines de plein d'initiatives collectives qui ten
 draient à favoriser l'inclusivité réelle dans les luttes pour les massi
 fier et les radicaliser. En effet\, on a en commun de vouloir participer a
 u processus de transformation sociale vers l'émancipation de chacun·e et
  tou·tes. En faisant en sorte que de plus en plus de personnes militent\,
  de manière plus en plus engageante (= s'impliquer plus)\, radicale\, e
 t pérenne dans le temps. Ce qui nécessite qu'elles apprécient de milite
 r et que ce soit moins coûteux pour elles psychologiquement/psycho-émoti
 onnellement (cognition et émotions) et matériellement notamment. Il y a 
 plein de manière d'oeuvrer à cela. Idéalement\, oeuvrer à cela d'une m
 anière empouvoirante qui fait que les personnes et collectifs aient de mo
 ins en moins "besoin" de personnes extérieures pour s'améliorer sur ces 
 questions.\n\nN'hésitez pas à en parler autour de vous si vous en avez e
 nvie et/ou sur vos réseaux\, etc.\n\nÀ bientôt ! Et pis bin avec ou san
 s RACINES prenons soin les un·es des autres pour abattre ce système de m
 erde !\n\nDates : le 10\, le 20 et le 30 de chaque mois (et le dernier jou
 r de février) Horaires : - 18h-19h : accueil et/ou début de discussions 
 (sans prises de décisions)\, - 19h : ordre du jour (ODJ) commun (possible
  d'arriver après\, mais vous rejoindrez les discussions en cours de route
  et ne serez pas consulté·es par rapport à l'ODJ)\, - 19h-21h : traitem
 ent de l'ODJ\, discussions\, etc. (prises de décisions uniquement lors de
  ce créneau-là)\, - possibilité de partir plus tôt\, ou de rester plus
  tard pour papoter si la personne qui ferme le lieu est d'accord pour le f
 ermer un peu plus tard :)\n\nPossibilité d'amener à boire et à grignote
 r à partager ! (sans alcool)\n\nLieux des prochaines rencontres : - Le 20
 /04 : au BOCAL\, 8 boulevard de l'Esplanade - 38000 Grenoble - Le 30/04 : 
 à l'Université Autogérée\, 921 rue des Résidences - 38400 Saint-Marti
 n-d’Hères\n\n( Accès PMR selon le lieu)\nhttp://www.agendabulle.fr/eve
 nt/2026/4/30/2312-rencontres-du-soin-militant-racines-rencontres-autonome-
 du-care-pour-une-inclusion-emancipatrice-et-sociale\nhttps://www.le-tamis.
 info/evenement/rencontres-du-soin-militant-racines-rencontres--8
LOCATION:Université Autogérée\, 921 Rue des Résidences\, Saint-Martin-
 d'Hères
NAME:Rencontres du soin militant : RACINES (Rencontres Autonome du Care po
 ur une INclusion Emancipatrice et Sociale)
END:VEVENT
END:VCALENDAR
