BEGIN:VCALENDAR
VERSION:2.0
PRODID:-//AgendaBulle//https://agendabulle.fr//
BEGIN:VEVENT
SUMMARY:Nathan Chaudat "Échecs et Maths"
DTSTART;TZID=Europe/Paris:20260430T203000
DTEND;TZID=Europe/Paris:20260502T220000
DTSTAMP:20260420T024424Z
UID:138326d47290a1792a45f5578c9a59af@agendabulle.fr
DESCRIPTION:On en a rêvé toute sa vie\, un cours de maths où on se gaus
 s(e) de rire pendant une heure.\n\nNathan a rendu possible l'impossible\, 
 avec le seul cours de Maths où on se tord de rire du début jusqu'à la f
 in !\n\n- Je n'ai pas utilisé le théorème de Pythagore depuis 5734 jour
 s\, est-ce que c'est grave Docteur ?\n- Est-il vrai qu'en multipliant un n
 ombre imaginaire par 3.14 on risque de devenir un hippie ?\n- Quelle est l
 a probabilité de repartir de ce spectacle avec une boîte de cassoulet ?\
 n- Une paille contient-elle un ou deux trous ? \n\nVous aimez bien les mat
 hs ? Vous aimerez ce spectacle.\n\nVous détestez les maths ? Vous l'aimer
 ez encore plus.\nhttp://www.agendabulle.fr/event/2026/4/30/2282-nathan-cha
 udat-echecs-et-maths\nhttps://www.facebook.com/events/2002132937314902/
IMAGE;VALUE=URI:http://www.agendabulle.fr/media/4a6be9d2-8f75-4027-b50c-28
 2b3ac3731c.jpg
LOCATION:La Basse Cour\, 18 Rue Colbert 38000 Grenoble\, Grenoble
NAME:Nathan Chaudat "Échecs et Maths"
END:VEVENT
END:VCALENDAR
