BEGIN:VCALENDAR
VERSION:2.0
PRODID:-//AgendaBulle//https://agendabulle.fr//
BEGIN:VEVENT
SUMMARY:Cercle d'écoute féministe pour hommes - La performance
DTSTART;TZID=Europe/Paris:20260429T183000
DTEND;TZID=Europe/Paris:20260429T203000
DTSTAMP:20260420T131836Z
UID:390eaea69a31961be28af72ccf25d85d@agendabulle.fr
DESCRIPTION:L'association NOUS SOMMES organise des cercles d'écoute à de
 stination des hommes qui souhaitent trouver un espace de dialogue bienveil
 lant dans une perspective féministe. Accompagnés d'une médiatrice de l'
 association\, vous êtes invités à dialoguer ensemble\, à échanger sur
  les sujets qui vous traversent et vous questionnent.\n\nThème : La perfo
 rmance\n\nCe mois-ci nous aborderons la question de la performance. Qu’e
 st-ce que la performance\, au regard du prisme du genre? Et dans quels dom
 aines cela s’exprime-t-il ? La performance physique\, le rapport au corp
 s\, à la compétition masculine\, la pression d’être le meilleur\, de 
 réussir professionnellement\, amoureusement\, socialement. Quels impacts 
 ces injonctions ont sur nos comportements\, notre lien à l’autre\, nos 
 émotions ? Nous pourrons aussi interroger la performance féministe : com
 ment se situer\, quelle posture adopter\, comment agir sans tomber dans la
  démonstration ?\n\nInscription obligatoire (prix libre) ici !\n\nSite in
 ternet ici !\n\nLien d'inscription à la newsletter ici !\nhttp://www.agen
 dabulle.fr/event/2026/4/29/2307-cercle-decoute-feministe-pour-hommes-la-pe
 rformance\nhttps://www.le-tamis.info/evenement/cercle-decoute-feministe-po
 ur-hommes-la-performanc
IMAGE;VALUE=URI:http://www.agendabulle.fr/media/4b21f4f5-d4c7-4214-a2db-ab
 ad3b556d2a.jpg
LOCATION:Collectif Voisin\, Place André Charpin\, Grenoble
NAME:Cercle d'écoute féministe pour hommes - La performance
END:VEVENT
END:VCALENDAR
