BEGIN:VCALENDAR
VERSION:2.0
PRODID:-//AgendaBulle//https://agendabulle.fr//
BEGIN:VEVENT
SUMMARY:Compagnie Restons Humains - La santé va mal ... et moi aussi\, je
  crois !
DTSTART;TZID=Europe/Paris:20260429T203000
DTEND;TZID=Europe/Paris:20260429T213000
DTSTAMP:20260420T024424Z
UID:b702550d983a211de77477bcb9ef749f@agendabulle.fr
DESCRIPTION:// SPECTACLE MUSICAL //\n\nL'une est art-thérapeute\, l’aut
 re est psychologue.\n\nCe spectacle découle d’un burn-out qu’elles on
 t vécu toutes les deux\, avec un besoin de dénoncer et de toucher le spe
 ctateur. \n\nCe spectacle parle de la condition des soignants et donne un 
 message d’espoir : Restons humains par l’humour\, par le chant ou par 
 un simple sourire !\n\n\n” C’est cette liberté qu’il nous reste alo
 rs saisissons-la ” ! »\n\n\n[Age minimum conseillé : 10 ans]\nhttp://w
 ww.agendabulle.fr/event/2026/4/29/2281-compagnie-restons-humains-la-sante-
 va-mal-et-moi-aussi-je-crois\nhttps://www.facebook.com/events/128090373739
 4381/
IMAGE;VALUE=URI:http://www.agendabulle.fr/media/22b51dc3-b378-48ae-8ad4-b2
 9b472c7bf4.jpg
LOCATION:La Basse Cour\, 18 Rue Colbert 38000 Grenoble\, Grenoble
NAME:Compagnie Restons Humains - La santé va mal ... et moi aussi\, je cr
 ois !
END:VEVENT
END:VCALENDAR
