BEGIN:VCALENDAR
VERSION:2.0
PRODID:-//AgendaBulle//https://agendabulle.fr//
BEGIN:VEVENT
SUMMARY:Impulsion #15 • The Doug + Épicerie de Nuit • La Belle Élect
 rique
DTSTART;TZID=Europe/Paris:20260429T200000
DTEND;TZID=Europe/Paris:20260429T220000
DTSTAMP:20260420T023452Z
UID:3af4813aa20ef0f6d806b56e24669b1e@agendabulle.fr
DESCRIPTION:𝗜𝗠𝗣𝗨𝗟𝗦𝗜𝗢𝗡 #𝟭𝟱 🚀\n\nC'est l
 a quinzième édition de nos soirées Impulsion ! Un format qui met en ava
 nt des projets musicaux sur la scène de la Belle. Découvertes et émerge
 nces\, voilà de quoi bien combler tes oreilles\, avec une soirée gratuit
 e !\n \n--------------------------\n\n■ 𝗧𝗛𝗘 𝗗𝗢𝗨𝗚\n\
 nAprès un premier album remarqué\, « Réparer »\, suivi de l’EP « G
 randes Surfaces »\, The Doug s’est installé dans le paysage musical fr
 ançais avec une écriture singulière\, mêlant sensibilité\, sobriété
  et précision. Son travail\, souvent salué pour la justesse de ses texte
 s\, lui a permis de fédérer un public croissant\, attentif à la sincér
 ité de sa démarche.\n\nPour sa nouvelle série de concerts\, The Doug op
 te pour une formule resserrée : un retour à l’essentiel\, centré sur 
 la voix\, le texte et la présence scénique. Il y revisite son répertoir
 e tout en présentant de nouvelles compositions.\n\nSur scène\, il se pro
 duira en guitare-voix\, accompagné d’un pianiste\, un dispositif qui me
 t en avant la clarté de son écriture et l’intensité émotionnelle de 
 ses interprétations.\n\n🎧 https://youtu.be/SiBX_en2ao4\n\n\n■ 𝗘
 𝗣𝗜𝗖𝗘𝗥𝗜𝗘 𝗗𝗘 𝗡𝗨𝗜𝗧\n\nSept musiciens e
 xpérimentés\, ayant sillonné les scènes françaises\, s’unissent dan
 s un projet singulier : Épicerie de Nuit\, un laboratoire sonore mêlant 
 groove et hip-hop/rap dans un univers rétro-futuriste. Les soufflants osc
 illent entre jazz élégant et envolées percutantes sur un fond sonore vi
 brant et raffiné façonné par des synthés. Au micro\, Youri manie les m
 ots avec une plume mélancolique teintée d’ironie mordante. Lina\, avec
  sa voix néo-soul puissante et envoûtante\, apporte profondeur et émoti
 on. L’ensemble est porté par un duo basse batterie au groove puissant e
 t moderne\, puisant son inspiration aussi bien dans le rock\, le jazz que 
 dans le rap le plus actuel.\n\nPortée par des paroles ancrées dans le qu
 otidien et des compositions riches\, Épicerie de Nuit raconte des histoir
 es universelles : désillusions\, rencontres\, espoirs\, étapes de vie. L
 eur musique fait ressentir\, réfléchir et rêver\, chaque note illuminan
 t la nuit.\n\nAvec ce projet\, les sept musiciens subliment la banalité d
 u réel. Épicerie de Nuit\, c’est la promesse de nuits vibrantes et de 
 récits marquants.\n\n🎧 https://youtu.be/zd07EWK4ZTY\n\n---------------
 -----------\n\n🔸 En savoir plus : https://www.la-belle-electrique.com/f
 r/agenda/impulsion-15-the-doug\n\n🎫 GRATUIT • SUR RÉSERVATION : http
 s://billetterie.la-belle-electrique.com/agenda/706-Impulsion-15-o-The-Doug
 ?session=706\n\n▬▬▬▬▬▬▬▬▬ INFOS UTILES ▬▬▬▬▬
 ▬▬▬▬▬▬▬\n\n• 🕑 Du mercredi au vendredi de 10h à 01h\, 
 et le samedi dès 16h mais également les autres jours à partir de 18h si
  un concert est programmé.\n\n• 📅 La programmation du bar ce sont : 
 des afterworks\, DJs sets\, vernissages et expositions\, soirées thémati
 ques\, concerts & more ! \n☞ Pour suivre l'actualité du bar : Événeme
 nts au Bar de La Belle Électrique\n\n•  🍔 🍷 En soirée pour vos a
 péros\, l'équipe du bar  vous propose sa carte de bières locales ainsi 
 que de nombreux encas maison réalisés par notre chef à déguster sur pl
 ace avant vos concerts : burgers (option végé !)\, wrap\, frites\, assie
 tte de nachos\, la planche charcuteries-fromages à partager (ou pas !). P
 rofitez-en ! \n\n• Pour s'amuser entre amis\, collègues ou en famille :
  jeux de société\, babyfoot\, ping pong\, pétanque & molki !\n(Disponib
 les toute l'année et gratuitement en prêt au bar).\n\n▬▬▬▬▬\n
 ✓ OUVERTURE des portes à 19h\n✓ PARKING : Parking relais Vallier Cata
 ne\n✓ VENIR à LBE : tram A arrêt Berriat-Le Magasin (voir "infos prati
 ques" sur le site Internet de La Belle)\n✓ Questions billetterie : accue
 il.billetterie@la-belle-electrique.com\nOuverture sur place du mercredi au
  vendredi de 14h à 19h\n▬▬▬▬\n\nhttp://www.agendabulle.fr/event/2
 026/4/29/2267-impulsion-15-the-doug-epicerie-de-nuit-la-belle-electrique\n
 https://www.facebook.com/events/1218320869745922/
IMAGE;VALUE=URI:http://www.agendabulle.fr/media/c6675c2e-a863-41da-931f-b3
 d9a14bd771.jpg
LOCATION:La belle electrique\, 12 esplanade Andry Farcy\, Grenoble
NAME:Impulsion #15 • The Doug + Épicerie de Nuit • La Belle Électriq
 ue
END:VEVENT
END:VCALENDAR
