BEGIN:VCALENDAR
VERSION:2.0
PRODID:-//AgendaBulle//https://agendabulle.fr//
BEGIN:VEVENT
SUMMARY:Les ateliers créatifs
DTSTART;TZID=Europe/Paris:20260429T160000
DTEND;TZID=Europe/Paris:20260429T180000
DTSTAMP:20260420T024437Z
UID:6702edcea040362b0a12f2585debf86e@agendabulle.fr
DESCRIPTION:Venez créer\, imaginer\, rêver au fil des saisons à la bibl
 iothèque Les Munitionnettes.Place à l'imaginaire et à la créativité !
  Pour les enfants à partir de 3 ans et leurs parents\, grands-parents...V
 enez créer\, imaginer avec Eve Gomy\, autrice et illus...\nhttp://www.age
 ndabulle.fr/event/2026/4/29/2238-les-ateliers-creatifs\nhttps://bm-grenobl
 e.fr/Default/doc/CALENDAR/2130/les-ateliers-creatifs
IMAGE;VALUE=URI:http://www.agendabulle.fr/media/93fc5a57-52a9-4e5c-a7a2-38
 2ed20b0fea.jpg
LOCATION:Bibliothèque Les Munitionnettes\, 90 Rue de Stalingrad\, 38100 G
 renoble\, Grenoble
NAME:Les ateliers créatifs
END:VEVENT
END:VCALENDAR
