BEGIN:VCALENDAR
VERSION:2.0
PRODID:-//Agenda Bulle//https://agendabulle.fr//
BEGIN:VEVENT
SUMMARY:Stand-Up Tapas
DTSTART;TZID=Europe/Paris:20260428T200000
DTEND;TZID=Europe/Paris:20260428T213000
DTSTAMP:20260426T031524Z
UID:0d87ac621feb43452a88c28e2c135d18@agendabulle.fr
DESCRIPTION:Le Bar Radis confie votre soirée à l’association Bars de R
 ire pour son incontournable Stand-Up – Tapas ! \nL’occasion de travail
 ler ses abdos en dégustant de délicieuses planches et en applaudissant q
 uatre humoristes émergent·es (100% LOCAL pour ces deux atouts).\n\nÉvè
 nement à prix libre sur inscription\nhttps://www.agendabulle.fr/event/202
 6/4/28/2562-stand-up-tapas\nhttps://www.facebook.com/events/81101144205285
 7/
IMAGE;VALUE=URI:https://www.agendabulle.fr/media/63ece1de-3a9e-44c3-a2b4-7
 db20d8c08fe.jpg
LOCATION:Le Bar Radis\, 15 rue Gustave Flaubert\, grenoble
NAME:Stand-Up Tapas
END:VEVENT
END:VCALENDAR
