BEGIN:VCALENDAR
VERSION:2.0
PRODID:-//Agenda Bulle//https://agendabulle.fr//
BEGIN:VEVENT
SUMMARY:Vernissage - Aux Ombres\, récits photographiques d’une chevauch
 ée
DTSTART;TZID=Europe/Paris:20260428T180000
DTEND;TZID=Europe/Paris:20260428T200000
DTSTAMP:20260424T091618Z
UID:411b853acc625509c50d82392d4a1755@agendabulle.fr
DESCRIPTION:Il y a des territoires que l’on traverse\, et d’autres qui
  nous traversent.\n\n\nAux Ombres\, de Simon Vansteenwinckel\, est de ceux
 -là.\n\n\nÀ travers une chevauchée hivernale de 450 kilomètres\, dans 
 le silence coupant des plaines du Dakota\, se dessine une mémoire vive. C
 elle d’un peuple\, les Lakotas\, dont l’histoire a été brisée\, mai
 s jamais réduite au silence. Dans le froid extrême\, entre les souffles 
 des chevaux et les traces laissées dans la neige\, quelque chose persiste
  : une transmission\, une dignité\, une présence.\n\n\nIci\, il ne s’a
 git pas de documenter la misère telle qu’on la regarde de loin\, mais d
 e s’approcher de ce qui résiste. D’écouter ce qui se murmure entre l
 es générations. De saisir\, dans l’ombre\, une lumière intacte.\n\n\n
 Le vernissage de l’exposition Aux Ombres aura lieu le mardi 28 avril à 
 18h\, aux Hautes Lumières\, à Minimistan\, en présence de l’artiste.\
 n\n\nL’exposition se poursuivra jusqu’au 28 juin 2026.\n\n\nUne projec
 tion photographique accompagnera les images\, portée par une création so
 nore originale de Grégory Dargent et Fred D. Oberland.\n\n—\n\nParfois\
 , regarder\, c’est déjà se déplacer.\nhttps://www.agendabulle.fr/even
 t/2026/4/28/2530-vernissage-aux-ombres-recits-photographiques-dune-chevauc
 hee\nhttps://www.facebook.com/events/2347170945782166/
IMAGE;VALUE=URI:https://www.agendabulle.fr/media/8117226d-4b47-45f1-bdae-4
 eb1b146c960.jpg
LOCATION:Minimistan\, 1 rue des minimes\, grenoble
NAME:Vernissage - Aux Ombres\, récits photographiques d’une chevauchée
END:VEVENT
END:VCALENDAR
