BEGIN:VCALENDAR
VERSION:2.0
PRODID:-//AgendaBulle//https://agendabulle.fr//
BEGIN:VEVENT
SUMMARY:Ciné-rencontres : Goyamart (sur l’évacuation forcée des Armé
 nien-ne-s du Haut Karabagh)
DTSTART;TZID=Europe/Paris:20260428T200000
DTEND;TZID=Europe/Paris:20260428T220000
DTSTAMP:20260422T224447Z
UID:0c9a3a9a77262e0926d7e5de6c6107d4@agendabulle.fr
DESCRIPTION:En 2023\, 120 000 Arménien-n-es ont vécus isolés\, bloqués
 \, sous-alimentés. Les forces armées azerbaïdjanaises et russes\, offic
 iellement déployées pour une mission de “maintien de la paix”\, inte
 rdisent toute liberté de déplacement aux habitants de l’Artsakh.\n\nCe
  film raconte le blocus de l’intérieur\, puis la déportation vers l’
 Arménie\, mais aussi le combat pour la survie de leur histoire\, de leur 
 identité et de leur culture.\n\nAvec la participation de la chanteuse Ann
 a Izmayilyan et de Catherine Pounardjian de l’association AEP\n\nÀ 20h\
 n\nÀ Mon Ciné\nhttp://www.agendabulle.fr/event/2026/4/28/2460-cine-renco
 ntres-goyamart-sur-levacuation-forcee-des-armenien-ne-s-du-haut-karabagh\n
 https://www.le-tamis.info/evenement/cine-rencontres-goyamart-sur-levacuati
 on-forcee-de
LOCATION:Mon Ciné\, 10 Avenue Ambroise Croizat\, Saint-Martin-d'Hères
NAME:Ciné-rencontres : Goyamart (sur l’évacuation forcée des Arménie
 n-ne-s du Haut Karabagh)
END:VEVENT
END:VCALENDAR
