BEGIN:VCALENDAR
VERSION:2.0
PRODID:-//AgendaBulle//https://agendabulle.fr//
BEGIN:VEVENT
SUMMARY:Formation au Porteur de Paroles#1
DTSTART;TZID=Europe/Paris:20260428T180000
DTEND;TZID=Europe/Paris:20260428T200000
DTSTAMP:20260420T131840Z
UID:e8985f183f7055d1ae35a51a65240533@agendabulle.fr
DESCRIPTION:Outil d'éducation populaire\, le Porteur de Parole consiste 
 à poser une question dans l'espace commun\, inviter les passants à répo
 ndre et à faire trace de leur réponse sur le lieu même du recueil.\n\nP
 etit à petit les différentes réponses\, basées sur différents vécus 
 et ressentis\, s'affichent et laissent entrevoir la complexité de la ques
 tion posée.\n\nFormation théorique :\n\nPrincipe général et installati
 on\n\nAller-vers\n\nEntretien\n\nTrace\n\nEt après ?\nhttp://www.agendabu
 lle.fr/event/2026/4/28/2352-formation-au-porteur-de-paroles1\nhttps://www.
 le-tamis.info/evenement/formation-au-porteur-de-paroles1
LOCATION:La Bifurk\, 2 rue Gustave Flaubert\, Grenoble\, France\, 38100\, 
 Grenoble
NAME:Formation au Porteur de Paroles#1
END:VEVENT
END:VCALENDAR
