BEGIN:VCALENDAR
VERSION:2.0
PRODID:-//AgendaBulle//https://agendabulle.fr//
BEGIN:VEVENT
SUMMARY:Présentation du marrainage ou parrainage de "désistance"
DTSTART;TZID=Europe/Paris:20260428T170000
DTEND;TZID=Europe/Paris:20260428T190000
DTSTAMP:20260420T131837Z
UID:d86514cd10de0f0e90e316e835e984fa@agendabulle.fr
DESCRIPTION:Avez-vous déjà entendu parler du marrainage ou du parrainage
  de désistance ? Ce nouveau dispositif de justice restaurative sera dépl
 oyé à Grenoble début 2027. Il permet à des bénévoles d'accompagner d
 es détenu-e-s repenti-e-s cherchant du soutien\n\nConcrètement\, des ren
 contres mensuelles seront organisées par le Service Pénitentiaire d'Inse
 rtion et de Probation de Grenoble\, dans un lieu idéalement neutre\, conf
 identiel et convivial. Une dizaine de marraines\, de parrains et autant de
  fillleuls seront accueilli-e-s par des animatrices spécialement formées
 .\n\nLes binômes bénévole-détenu pourront ensuite échanger une fois p
 ar semaine\, par téléphone ou dans un lieu public. Les discussions seron
 t confidentielles. Le but est d'apporter du soutien\, de l'écoute\, de no
 uvelles perspectives. Ce dispositif ne concerne que les personnes condamn
 ées à des mesures alternatives à la prison : du sursis probatoire ou un
 e détention à domicile sous surveillance électronique.\n\nCe dispositif
  vous intrigue ou vous intéresse ? Une première réunion aura lieu mardi
  28 avril à 17h. Pour plus d'infos : parrainage-de-desistance.alip-greno
 ble (at) justice.fr\n\nnote du Tamis: Nous choissons de relayer cet évén
 ement bien qu'il soit porté par le ministère de la justice. Nous ne somm
 es pas certains du contenus qui y sera proposé\, n'hésitez pas à nous f
 aire des retours à l'issus de cet événement pour nous aider à afiner n
 otre ligne éditoriale.\nhttp://www.agendabulle.fr/event/2026/4/28/2318-pr
 esentation-du-marrainage-ou-parrainage-de-desistance\nhttps://www.le-tamis
 .info/evenement/justice-restaurative-a-grenoble-presentation-du-ma
LOCATION:Rue Bayard\, Rue Bayard Grenoble\, Grenoble
NAME:Présentation du marrainage ou parrainage de "désistance"
END:VEVENT
END:VCALENDAR
