BEGIN:VCALENDAR
VERSION:2.0
PRODID:-//AgendaBulle//https://agendabulle.fr//
BEGIN:VEVENT
SUMMARY:Présentation du mouvement "Survivre et vivre" (sur les débuts de
  l'écologie radicale dans les années 70 en France)
DTSTART;TZID=Europe/Paris:20260427T180000
DTEND;TZID=Europe/Paris:20260427T200000
DTSTAMP:20260422T224444Z
UID:2c715518d90eb177f3265dd03da17001@agendabulle.fr
DESCRIPTION:Fondée par des mathématicien.ne.s en 1970\, Survivre et Vivr
 e est un des principaux mouvements de critique des sciences des années 19
 68. Sa critique du scientisme\, des experts et de l’impérialisme scient
 ifique l’amène à tenir un rôle de premier plan dans les débuts de l
 ’écologie politique… avant qu’il ne se saborde face aux premières 
 formes d’institutionnalisation de l’écologie.\n\nVenez découvrir cet
 te histoire et en discuter avec le collectif "Faut-il continuer la recherc
 he ?" .\n\nAu programme : Présentation du mouvement Survivre et Vivre\,\,
  lecture collective de leur revue et discussion.\nhttp://www.agendabulle.
 fr/event/2026/4/27/2452-presentation-du-mouvement-survivre-et-vivre-sur-le
 s-debuts-de-lecologie-radicale-dans-les-annees-70-en-france\nhttps://www.l
 e-tamis.info/evenement/presentation-du-mouvement-survivre-et-vivre-sur-le
LOCATION:Université Autogérée\, 921 Rue des Résidences\, Saint-Martin-
 d'Hères
NAME:Présentation du mouvement "Survivre et vivre" (sur les débuts de l'
 écologie radicale dans les années 70 en France)
END:VEVENT
END:VCALENDAR
