BEGIN:VCALENDAR
VERSION:2.0
PRODID:-//AgendaBulle//https://agendabulle.fr//
BEGIN:VEVENT
SUMMARY:Atelier couture de protections périodiques réutilisables
DTSTART;TZID=Europe/Paris:20260427T090000
DTEND;TZID=Europe/Paris:20260427T110000
DTSTAMP:20260420T131837Z
UID:aff2e723e9238f3f712b2ed956df5eff@agendabulle.fr
DESCRIPTION:🩲 Apprenez à faire vous même vos protections périodiques
  réutilisables !\n\nAu programme :\n\n💬​ 30 minutes d'activités et 
 d'échanges autour des protections périodiques\n\n🧵 2 heures de coutur
 e. Étape après étape\, confectionnez une serviette lavable ou un sous-v
 êtement menstruel adapté à vos besoins.\n\nPas de compétences en coutu
 re requises.\n\n📅​ Date : Lundi 27 avril 🕛​ horaires : 9h-11h30 
 📍​ Lieu d'accueil : MDH Essarts-Surrieux\, Place de la Convention\, E
 chirolles 🆓​ Atelier gratuit ✒️​ Inscription obligatoire : http
 s://www.grenoblealpesmetropole.fr/agenda/1549/915-atelier-couture-de-prote
 ctions-periodiques-reutilisables.htm\nhttp://www.agendabulle.fr/event/2026
 /4/27/2310-atelier-couture-de-protections-periodiques-reutilisables\nhttps
 ://www.le-tamis.info/evenement/atelier-couture-de-protections-periodiques-
 reut-4
LOCATION:Maison des habitant.e.s Les Essarts/Surieux\, Pl. de la Conventio
 n\, 38130 Échirolles\, Échirolles
NAME:Atelier couture de protections périodiques réutilisables
END:VEVENT
END:VCALENDAR
