BEGIN:VCALENDAR
VERSION:2.0
PRODID:-//AgendaBulle//https://agendabulle.fr//
BEGIN:VEVENT
SUMMARY:Atelier d’auto-entretien Bricolo Cyclette
DTSTART;TZID=Europe/Paris:20260427T190000
DTEND;TZID=Europe/Paris:20260427T210000
DTSTAMP:20260420T025204Z
UID:b8899407d1322848db5adaabf7571bb1@agendabulle.fr
DESCRIPTION:L'atelier d'auto-réparation de vélo issu du budget participa
 tif 2022-2023 propose une permanence une fois par mois.\n\nVenez réparer 
 vos vélos grâce aux outils et aux conseils des bénévoles.Participation
  libre.\nhttp://www.agendabulle.fr/event/2026/4/27/2095-atelier-dauto-entr
 etien-bricolo-cyclette\nhttps://www.meylan.fr/agenda/1467/41-atelier-d-aut
 o-entretien-bricolo-cyclette.htm?ID_AGENDAPERIODE=3221
IMAGE;VALUE=URI:http://www.agendabulle.fr/media/15f98e8e-0500-4897-93b9-2c
 1422fbf4f7.jpg
LOCATION:L'atelier d'auto-réparation de vélo Meylan\, 2 Rue Stella Monti
 s\, 38240 Meylan\, Meylan
NAME:Atelier d’auto-entretien Bricolo Cyclette
END:VEVENT
END:VCALENDAR
