BEGIN:VCALENDAR
VERSION:2.0
PRODID:-//AgendaBulle//https://agendabulle.fr//
BEGIN:VEVENT
SUMMARY:Basta Now #2 Women Trans and Non-Binary in Experimental Music (Sé
 ance d'écoute au 102)
DTSTART;TZID=Europe/Paris:20260426T193000
DTEND;TZID=Europe/Paris:20260426T213000
DTSTAMP:20260422T224447Z
UID:cedba425e771107946b6ccc804207c57@agendabulle.fr
DESCRIPTION:BASTA NOW #2 / FANNY'SELECTA MàJ\n\nDimanche 26 Avril 2026 19
 h30 pour Manger 20h30 pour la séance! Prix libre\n\nL'année dernière\, 
 nous recevions\, en copinage avec les Modernes \, l'autrice Fanny Chiarell
 o pour la présentation de l'essai expérimental et non-académique Basta 
 Now. Women\, Trans& Non-binary in Experimental Music une forme d’inventa
 ire/ annuaire\, en perpétuelle augmentation\, de cette prolifique scène.
  À cette occasion\, nous lui avions donné carte blanche pour nous faire 
 découvrir et écouter une infime partie de ses découvertes et affinités
 .\n\nC'était super ! Alors\, comme un rituel\, on remet le couvert avec F
 anny et les Modernes cette année en profitant de la réédition de Basta 
 Now en version mis à jour. On vous attend avec le programme qu'elle nous 
 a sélectionné\, dans le noir (avec un peu de lumière) et le Paté Sound
  System pour cette séance d'écoute encore une fois éclectique et qui re
 nd tout le monde sûrement un peu plus curieux..\nhttp://www.agendabulle.f
 r/event/2026/4/26/2464-basta-now-2-women-trans-and-non-binary-in-experimen
 tal-music-seance-decoute-au-102\nhttps://www.le-tamis.info/evenement/basta
 -now-2-women-trans-and-non-binary-in-experime
LOCATION:Le 102\, 102 Rue d'Alembert\, Grenoble
NAME:Basta Now #2 Women Trans and Non-Binary in Experimental Music (Séanc
 e d'écoute au 102)
END:VEVENT
END:VCALENDAR
