BEGIN:VCALENDAR
VERSION:2.0
PRODID:-//AgendaBulle//https://agendabulle.fr//
BEGIN:VEVENT
SUMMARY:Festival "Place aux jeux" (animations\, jeux\, découvertes...)
DTSTART;TZID=Europe/Paris:20260426T080000
DTEND;TZID=Europe/Paris:20260426T100000
DTSTAMP:20260422T224444Z
UID:31229274b79411b19b6155fe30509e4d@agendabulle.fr
DESCRIPTION:Venez découvrir ou redécouvrir le plaisir du jeu sous toutes
  ses formes : jeux de société (de plateau\, traditionnels\, du monde…)
 \, jeux d’adresse en bois\, jeux de rôles et de figurines\, jeux turbul
 ents\, jeux d’imitation\, de mise en scène…\n\nLe programme complet d
 u festival est disponible ici .\n\nDurant le temps fort du week-end à la 
 Halle Clémenceau retrouvez durant deux jours des animations dans l’arè
 ne\, des espaces de jeux permanents spécialement conçus pour les famille
 s\,\, des tests de prototypes présentés par leurs auteurs\, des maisons 
 d’éditions et des tournois endiablés !\n\nProgramme détaillé et info
 s précises ici\nhttp://www.agendabulle.fr/event/2026/4/26/2456-festival-p
 lace-aux-jeux-animations-jeux-decouvertes\nhttps://www.le-tamis.info/evene
 ment/festival-place-aux-jeux-animations-jeux-decouverte
LOCATION:Halle Clémenceau\, 40 Boulevard Clémenceau\, Grenoble
NAME:Festival "Place aux jeux" (animations\, jeux\, découvertes...)
END:VEVENT
END:VCALENDAR
