BEGIN:VCALENDAR
VERSION:2.0
PRODID:-//AgendaBulle//https://agendabulle.fr//
BEGIN:VEVENT
SUMMARY:Les Swings du Minimistan 
DTSTART;TZID=Europe/Paris:20260426T200000
DTEND;TZID=Europe/Paris:20260426T220000
DTSTAMP:20260422T220541Z
UID:46d96863cd811662378c3808f7b8ff3b@agendabulle.fr
DESCRIPTION:Avec ses soirées swing\, le Bar du Minimistan devient un haut
  lieu grenoblois des rencontres de danses de la prohibition !\n\n\nQue vou
 s soyez plutôt lindy hop\, balboa\, jazz roots ou blues\, rejoignez la pi
 ste pour des sessions endiablées aux allures de bal populaire qui réchau
 fferont les coeurs et les corps 💃🕺\n\n\nInitiation à 20h15 avec l
 ’association Grenoble Swing\n\n\nNotez les dates dans vos agendas et ré
 servez-nous vos meilleurs swing chaque mois !\n\n————————
 —-\nℹ️ INFOS PRATIQUES\n💃 Soirée Swing & Lindy Hop\n📍 Minimis
 tan (Rue des Minimes\, 38000 Grenoble)\n🕟 Le mardi 26 mai à 20h\n🎟
 ️ Gratuit / Entrée libre\nhttp://www.agendabulle.fr/event/2026/4/26/237
 6-les-swings-du-minimistan\nhttps://www.facebook.com/events/11595588729072
 44/
IMAGE;VALUE=URI:http://www.agendabulle.fr/media/f88322e6-f0b6-44cd-b6db-58
 783c07c09f.jpg
LOCATION:Minimistan\, 1 rue des minimes\, grenoble
NAME:Les Swings du Minimistan 
END:VEVENT
END:VCALENDAR
