BEGIN:VCALENDAR
VERSION:2.0
PRODID:-//AgendaBulle//https://agendabulle.fr//
BEGIN:VEVENT
SUMMARY:Vide dressing pour la Palestine
DTSTART;TZID=Europe/Paris:20260426T140000
DTEND;TZID=Europe/Paris:20260426T160000
DTSTAMP:20260420T131841Z
UID:5ab557aa25ba7af1b374293978ca601d@agendabulle.fr
DESCRIPTION:Moins cher que les frip de centre-ville\, moins capitaliste qu
 e Vinted et certainement plus éthique que Shein : c'est le vide-dressing 
 des Ramoneuses !\n\nLe 26 avril \, viens chiner des pépites dans notre sa
 lon pour parfaire ta D.A de la saison ✨\n\nÇa se passe au 24 rue John K
 ennedy 38100 Grenoble de 14h à 18h (entrée libre).\n\nOn vend tout à pr
 ix libre et l'argent récolté est reversé à Résilience Gaza 🍉\n\nS
 ee ya 🫶\nhttp://www.agendabulle.fr/event/2026/4/26/2358-vide-dressing-p
 our-la-palestine\nhttps://www.le-tamis.info/evenement/vide-dressing-pour-l
 a-palestine-1
IMAGE;VALUE=URI:http://www.agendabulle.fr/media/7fcd2ddb-1581-4e14-9dae-2a
 8fc2dfe5eb.jpg
LOCATION:Rue Bayard\, Rue Bayard Grenoble\, Grenoble
NAME:Vide dressing pour la Palestine
END:VEVENT
END:VCALENDAR
