BEGIN:VCALENDAR
VERSION:2.0
PRODID:-//AgendaBulle//https://agendabulle.fr//
BEGIN:VEVENT
SUMMARY:Idéo\, le jeu de société sur les idéologies politiques
DTSTART;TZID=Europe/Paris:20260426T171500
DTEND;TZID=Europe/Paris:20260426T191500
DTSTAMP:20260420T131838Z
UID:1d3e4767307eaae83f925baea1330b1e@agendabulle.fr
DESCRIPTION:Viens apprendre en t'amusant à connaître les grandes famille
 s d'idées politiques qui façonnent notre environnement social avec le je
 u de société Idéo ! A mi-chemin entre un jeu d'ambiance et un de jeu de
  plateau\, tu incarneras une des 12 grandes idéologies qui souhaite insuf
 fler sa vision du monde ! Il n'y a aucun prérequis de connaissance à avo
 ir\, juste une curiosité pour le sujet :) Rdv à 17h15 à la bibliothèqu
 e Antigone pour une animation d'1h30 à 2h. Evénement gratuit\, sans rés
 ervation.\nhttp://www.agendabulle.fr/event/2026/4/26/2331-ideo-le-jeu-de-s
 ociete-sur-les-ideologies-politiques\nhttps://www.le-tamis.info/evenement/
 ideo-le-jeu-de-societe-sur-les-ideologies-politiqu
LOCATION:Antigone\, 22 Rue des Violettes\, Grenoble
NAME:Idéo\, le jeu de société sur les idéologies politiques
END:VEVENT
END:VCALENDAR
