BEGIN:VCALENDAR
VERSION:2.0
PRODID:-//AgendaBulle//https://agendabulle.fr//
BEGIN:VEVENT
SUMMARY:Balade grenobloise à vélo
DTSTART;TZID=Europe/Paris:20260426T093000
DTEND;TZID=Europe/Paris:20260426T113000
DTSTAMP:20260420T131837Z
UID:baa51cbcf5f6ed2bd162601088df167b@agendabulle.fr
DESCRIPTION:L'association Univoyage propose une balade à vélo en groupe 
 accessible à toutes et tous pour découvrir l’agglomération grenoblois
 e et au-delà !\n\nPour cette premère balade : Découvrez la vallée du G
 résivaudan par la Chronovélo 1 jusqu’à l’Espace Naturel Sensible de
  La Batie.\n\nRetour par les berges de l’Isère (V63).\n\nDistance: 28 k
 m\n\nPlus d'infos ici : https://univoyage.co/inscription/balades/grenobloi
 ses/\nhttp://www.agendabulle.fr/event/2026/4/26/2328-balade-grenobloise-a-
 velo\nhttps://www.le-tamis.info/evenement/balade-grenobloise-a-velo
LOCATION:Rue Bayard\, Rue Bayard Grenoble\, Grenoble
NAME:Balade grenobloise à vélo
END:VEVENT
END:VCALENDAR
