BEGIN:VCALENDAR
VERSION:2.0
PRODID:-//AgendaBulle//https://agendabulle.fr//
BEGIN:VEVENT
SUMMARY:QUART DE FINALE - Aladdine et Jasmin VS 22 Vla les bleus 
DTSTART;TZID=Europe/Paris:20260426T200000
DTEND;TZID=Europe/Paris:20260426T220000
DTSTAMP:20260420T024424Z
UID:0576ea827fbd8abf5c8a6ce01dd40b6d@agendabulle.fr
DESCRIPTION:Les quarts de finale du Championnat de catch impro 2025/2026 s
 ont lancés !\n\nVenez encourager les duos sélectionnés et les départag
 er pour la qualification en demi-finales !\n\n3ème quart de finale : \nAl
 addine et Jasmin VS 22 Vla les bleus \n\n⚠️ Ouverture de la billetteri
 e le dimanche 8 mars à 10h.\nhttp://www.agendabulle.fr/event/2026/4/26/21
 89-quart-de-finale-aladdine-et-jasmin-vs-22-vla-les-bleus\nhttps://www.fac
 ebook.com/events/1573572657278754/
IMAGE;VALUE=URI:http://www.agendabulle.fr/media/f103629d-8925-4668-9daf-dd
 36d62df041.jpg
LOCATION:La Basse Cour\, 18 Rue Colbert 38000 Grenoble\, Grenoble
NAME:QUART DE FINALE - Aladdine et Jasmin VS 22 Vla les bleus 
END:VEVENT
END:VCALENDAR
