BEGIN:VCALENDAR
VERSION:2.0
PRODID:-//AgendaBulle//https://agendabulle.fr//
BEGIN:VEVENT
SUMMARY:Vide-greniers du Sou des écoles des Béalières
DTSTART;TZID=Europe/Paris:20260426T150000
DTEND;TZID=Europe/Paris:20260426T170000
DTSTAMP:20260420T025204Z
UID:59ffad802ba6ce449b035f15c59d9e38@agendabulle.fr
DESCRIPTION:Le sou des écoles des Béalières organise son 1er vide greni
 er le dimanche 26 avril dans la Cour d'école des Béalières.\n\nVenez ch
 iner\, vendre et partager un moment convivial en famille ou entre amis.\n\
 nAccueil des exposants : de 7h jusqu'à 8h45. Accueil des visiteurs : de 9
 h à 15h.\n\nBuvette et petite restauration sur place.\n\nLes ventes réal
 isées par les exposants leur reviennent intégralement. Les recettes issu
 es de la vente des emplacements ainsi que celles de la buvette seront enti
 èrement reversées à l'école des Béalières.\nhttp://www.agendabulle.f
 r/event/2026/4/26/2093-vide-greniers-du-sou-des-ecoles-des-bealieres\nhttp
 s://www.meylan.fr/agenda/1993/41-vide-greniers-du-sou-des-ecoles-des-beali
 eres.htm?ID_AGENDAPERIODE=3646
IMAGE;VALUE=URI:http://www.agendabulle.fr/media/3b6a95eb-1672-4b0f-b816-68
 ab06a53fad.jpg
LOCATION:Ecole Primaire des Béalières\, 2 Le Routoir\, 38240 Meylan\, Me
 ylan
NAME:Vide-greniers du Sou des écoles des Béalières
END:VEVENT
END:VCALENDAR
