BEGIN:VCALENDAR
VERSION:2.0
PRODID:-//Agenda Bulle//https://agendabulle.fr//
BEGIN:VEVENT
SUMMARY:Drink & Draw
DTSTART;TZID=Europe/Paris:20260425T140000
DTEND;TZID=Europe/Paris:20260425T180000
DTSTAMP:20260425T031527Z
UID:86c65b96efdca5b7020e9d9b6fa91943@agendabulle.fr
DESCRIPTION:Moment de dessin et d’échange organisé par Arthur Besson.\
 nEntre 15 et 20 personnes de prévues\, Arrivée à 14h\, fin entre 18h et
  18h30\n\nEvènement gratuit sans inscription\nhttps://www.agendabulle.fr/
 event/2026/4/25/2554-drink-draw\nhttps://www.facebook.com/events/128968627
 6439935/
IMAGE;VALUE=URI:https://www.agendabulle.fr/media/a7dcf183-d8b3-4d9f-90eb-a
 daffea458c8.jpg
LOCATION:Le Bar Radis\, 15 rue Gustave Flaubert\, grenoble
NAME:Drink & Draw
END:VEVENT
END:VCALENDAR
