BEGIN:VCALENDAR
VERSION:2.0
PRODID:-//Agenda Bulle//https://agendabulle.fr//
BEGIN:VEVENT
SUMMARY:Brunch
DTSTART;TZID=Europe/Paris:20260425T113000
DTEND;TZID=Europe/Paris:20260425T143000
DTSTAMP:20260425T031527Z
UID:99817c655d0008d6bada7332af4d8941@agendabulle.fr
DESCRIPTION:Mireilles et les bénévoles aux fourneaux ! Dernier service 
 à 13h30. Réservation sur Resapp.\n\nAu menu :\n\n-Velouté de chou-fleur
 -Chips de légumes\n-Houmous de courgettes\n-Pancakes à la farine de pois
  chiches\n-Moelleux aux pommes\n-Délice végétal aux fruits\n\nDeux bois
 sons comprises. Boissons chaudes et froides.\n\nBrunch à prix libre : 12
 € minimum / prix conseillé 20€/ prix soutien 25€.\n\nhttps://www.ag
 endabulle.fr/event/2026/4/25/2553-brunch\nhttps://www.facebook.com/events/
 798786249527391/
IMAGE;VALUE=URI:https://www.agendabulle.fr/media/7777020f-9038-44a9-b4c3-b
 1826a494556.jpg
LOCATION:Le Bar Radis\, 15 rue Gustave Flaubert\, grenoble
NAME:Brunch
END:VEVENT
END:VCALENDAR
