BEGIN:VCALENDAR
VERSION:2.0
PRODID:-//Agenda Bulle//https://agendabulle.fr//
BEGIN:VEVENT
SUMMARY:Vide-Grenier Boulevard Foch
DTSTART;TZID=Europe/Paris:20260425T080000
DTEND;TZID=Europe/Paris:20260425T180000
DTSTAMP:20260424T151224Z
UID:46611832f1e2228273069fd47bfe10a2@agendabulle.fr
DESCRIPTION:Le vide-grenier du Boulevard Foch est un événement majeur de
  Grenoble avec plus de 300 exposants qui s'installent tout le long de ce b
 oulevard du quartier Foch-Aigle-Libération. Organisé par l'Union de Quar
 tier Foch Aigle Libération depuis 15 ans\, ce vide-grenier de plein air a
 ttire des milliers de visiteurs. Ouvert de 8h à 18h\, il propose une mult
 itude de stands dans une ambiance de fête\, avec les commerces du bouleva
 rd ouverts. Tarif : 8 euros les 2 mètres (adhérents) ou 12 euros (non-ad
 hérents).\nhttps://www.agendabulle.fr/event/2026/4/25/2551-vide-grenier-b
 oulevard-foch
LOCATION:Boulevard Maréchal Foch\, 39 boulevard Maréchal Foch\, grenoble
NAME:Vide-Grenier Boulevard Foch
END:VEVENT
END:VCALENDAR
