BEGIN:VCALENDAR
VERSION:2.0
PRODID:-//Agenda Bulle//https://agendabulle.fr//
BEGIN:VEVENT
SUMMARY:Bye bye Monsieur Seguin
DTSTART;TZID=Europe/Paris:20260425T120000
DTEND;TZID=Europe/Paris:20260425T140000
DTSTAMP:20260424T095255Z
UID:b6bf523ab4b36ea0791c7ade50999348@agendabulle.fr
DESCRIPTION:L’atelier est une invitation à travailler autour du paysage
  imaginaire comme espace de liberté. En s’appuyant sur l’albumBye by
 e monsieur Seguinédité aux éditions On ne Compte pas pour du beurre\, 
 chacun·e pourra imaginer un paysage personnel\, pensé comme un compagnon
  de récit\, ainsi que le personnage qui l’habite\, Blanquette la chèvr
 e ou son propre personnage.  Marine vous accompagnera pas à pas pour dé
 couvrir ce qui fait naître un paysage imaginaire : jouer avec les formes\
 , transformer le réel\, inventer des lieux impossibles\, créer des ambia
 nces par les couleurs…  À l’aide de crayons\, feutres et collages\, 
 laissez libre cours à votre imagination et créez un paysage unique\, po
 étique\, drôle ou mystérieux. Un moment de création à partager\, ouve
 rt aux enfants à partir de 7 ans comme aux adultes\, débutant-es ou conf
 irmé-es.\n\nAprès une licence en Arts Plastiques\,Marine Coutroutsiosa 
 été sculptrice\, architecte d’intérieur puis designer papier. En 2017
 \, après plusieurs années en Australie où l’exotisme de la nature a r
 avivé son lien avec le vivant\, elle s’installe près des montagnes à 
 Grenoble et débute son activité d’illustration. Dans un style délicat
  et onirique\, elle crée des atmosphères mystérieuses et envoûtantes e
 t peuple ses images de végétations et d’animaux. Aujourd’hui\, elle 
 illustre régulièrement pour la presse et l’édition jeunesse.\nhttps:/
 /www.agendabulle.fr/event/2026/4/25/2542-bye-bye-monsieur-seguin\nhttps://
 lesmodernes.com/2026/04/06/bye-bye-monsieur-seguin/
IMAGE;VALUE=URI:https://www.agendabulle.fr/media/62d8c2f3-0362-4b76-a8b2-5
 e84c12487f3.jpg
LOCATION:Les Modernes\, 6 Rue Lakanal\, Grenoble
NAME:Bye bye Monsieur Seguin
END:VEVENT
END:VCALENDAR
