BEGIN:VCALENDAR
VERSION:2.0
PRODID:-//Agenda Bulle//https://agendabulle.fr//
BEGIN:VEVENT
SUMMARY:Isha et Limsa d'Aulnay
DTSTART;TZID=Europe/Paris:20260425T200000
DTEND;TZID=Europe/Paris:20260425T220000
DTSTAMP:20260424T091851Z
UID:545fb8a6c60ee8c6e5c5695a6c965cbb@agendabulle.fr
DESCRIPTION:Isha et Limsa d'Aulnay en concert à La Belle Électrique le 2
 5 avril 2026 !\n\nTous deux rappeurs depuis de nombreuses années\, Isha e
 t Limsa d’Aulnay ont a leur actif de belles carrières solos. S’ils se
  connaissent depuis longtemps\, c’est sur "Starting Block" (sorti en 202
 0 sur Logique Part.2 de Limsa) qu’a lieu leur première collaboration.\n
 \nNés la même année\, les deux artistes se retrouvent sur des nombreux 
 points : leurs influences\, leurs envies musicales et leur vision artistiq
 ue. Du succès de leurs featuring et de leur amitié de plus en plus forte
  est née l’envie de faire une mixtape commune\, qui se transforme quelq
 ues mois plus tard en Bitume Caviar\, nouvel album sorti le 1er Décembre 
 2023. Ce projet 13 titres se caractérise par le mélange de leurs sens de
  la formule et de la mélodie\, dans une complémentarité sans pareille.\
 n\nEntre le blues du voyou repenti et la vie de trentenaire\, Bitume Cavia
 r nous plonge dans le quotidien des deux rappeurs émérites. Un an après
  la sortie du projet et forts d’une première tournée sold out\, ils re
 viennent sur scène avec un nouveau show à partir de la rentrée 2025.\nh
 ttps://www.agendabulle.fr/event/2026/4/25/2537-isha-et-limsa-daulnay\nhttp
 s://www.grenoble-tourisme.com/fr/decouvrir/evenements/agenda/detail/isha-e
 t-limsa-d-aulnay-7618152/
IMAGE;VALUE=URI:https://www.agendabulle.fr/media/37644f02-1342-4704-965d-a
 2ab6ad26084.jpg
LOCATION:La belle electrique\, 12 esplanade Andry Farcy\, Grenoble
NAME:Isha et Limsa d'Aulnay
END:VEVENT
END:VCALENDAR
