BEGIN:VCALENDAR
VERSION:2.0
PRODID:-//Agenda Bulle//https://agendabulle.fr//
BEGIN:VEVENT
SUMMARY:Rosa Bursztein : Dédoublée
DTSTART;TZID=Europe/Paris:20260425T200000
DTEND;TZID=Europe/Paris:20260425T220000
DTSTAMP:20260424T091851Z
UID:5ad3956c82f25ea618f6f849e84da0b7@agendabulle.fr
DESCRIPTION:Dans ce nouveau spectacle\, l’humoriste poursuit son récit 
 sur la quête amoureuse et creuse ses contradictions de mauvaise féminist
 e\, de mauvaise écologiste et de mauvaise gauchiste.\n\nAprès avoir abor
 dé l'errance sentimentale dans son précédent spectacle\, Rosa Bursztein
  ouvre un nouveau chapitre : elle retrace l’histoire de sa famille et se
  questionne sur notre époque. Serions-nous restés des enfants qui jouons
  au bras de fer dans la cour de récré ? Quel est le véritable pouvoir s
 ecret des fées ? Rosa rêve de la maternité... Mais avant\, bien des dé
 fis l’attendent\, comme le couple : quand on a été si longtemps seule\
 , comment réussir à faire deux ? Rosa se serait-elle dédoublée ? Jongl
 ant avec ses différentes facettes\, elle assume une parole libre et sans 
 tabou\, tout en se moquant de son quotidien\, et offre un stand-up mordant
  et sincère.\n\n«Cette Rosa Bursztein heureuse et amoureuse n’a jamais
  été aussi drôle. » Télérama\n\nMentions De et avec : Rosa Bursztein
  | Mise en scène : Adrienne Ollé | Production : Rosa B Productions | Cr
 édit Fanny de Gouville\nhttps://www.agendabulle.fr/event/2026/4/25/2536-r
 osa-bursztein-dedoublee\nhttps://www.grenoble-tourisme.com/fr/decouvrir/ev
 enements/agenda/detail/rosa-bursztein-dedoublee-7458091/
IMAGE;VALUE=URI:https://www.agendabulle.fr/media/a9831ede-5454-4b5d-b757-b
 daeef05f654.jpg
LOCATION:L’heure bleue\, 2 Av. Jean Vilar\, 38400 Saint-Martin-d'Hères\
 , Saint-Martin-d'Hères
NAME:Rosa Bursztein : Dédoublée
END:VEVENT
END:VCALENDAR
