BEGIN:VCALENDAR
VERSION:2.0
PRODID:-//Agenda Bulle//https://agendabulle.fr//
BEGIN:VEVENT
SUMMARY:Journée portes ouvertes nature en ville
DTSTART;TZID=Europe/Paris:20260425T100000
DTEND;TZID=Europe/Paris:20260425T120000
DTSTAMP:20260424T091851Z
UID:a1cbee9be5ece1f5e6353860c665d48e@agendabulle.fr
DESCRIPTION:La Direction Nature en Ville ouvre ses portes au centre hortic
 ole ! Venez rencontrer les femmes et les hommes qui conçoivent\, plantent
 \, entretiennent\, taillent\, fleurissent la ville tout au long de l'anné
 e !\n\nDes stands pour échanger sur les métiers\, les pratiques et les t
 echniques. Des visites et des animations à retrouver tout au long de la j
 ournée\nhttps://www.agendabulle.fr/event/2026/4/25/2535-journee-portes-ou
 vertes-nature-en-ville\nhttps://www.grenoble-tourisme.com/fr/decouvrir/eve
 nements/agenda/detail/journee-portes-ouvertes-nature-en-ville-7765896/
IMAGE;VALUE=URI:https://www.agendabulle.fr/media/04c71eb5-579c-44a1-add5-5
 56fccfd0a79.jpg
LOCATION:Centre horticole de la Ville de Grenoble\, 34 Rue des Taillées\,
  38400 Saint-Martin-d'Hères\, Saint-Martin-d'Hères
NAME:Journée portes ouvertes nature en ville
END:VEVENT
END:VCALENDAR
