BEGIN:VCALENDAR
VERSION:2.0
PRODID:-//Agenda Bulle//https://agendabulle.fr//
BEGIN:VEVENT
SUMMARY:Visite guidée "Les coulisses des Archives"
DTSTART;TZID=Europe/Paris:20260425T143000
DTEND;TZID=Europe/Paris:20260425T163000
DTSTAMP:20260424T091850Z
UID:7efc5cab51e44e155316ffc771ba90f0@agendabulle.fr
DESCRIPTION:Au cœur des Archives\, les agents vous guideront dans les esp
 aces habituellement fermés au public\, pour vous faire découvrir leurs m
 issions\, leurs métiers et explorer la diversité des documents qui y son
 t conservés.\nhttps://www.agendabulle.fr/event/2026/4/25/2534-visite-guid
 ee-les-coulisses-des-archives\nhttps://www.grenoble-tourisme.com/fr/decouv
 rir/evenements/agenda/detail/visite-guidee-les-coulisses-des-archives-6395
 143/
IMAGE;VALUE=URI:https://www.agendabulle.fr/media/f8a16211-d91f-43d3-a921-c
 5ddf927579c.jpg
LOCATION:Archives départementales de l'Isère\, 12 rue Georges Pérec\, S
 aint-Martin-d'Hères\, Saint-Martin-d'Hères
NAME:Visite guidée "Les coulisses des Archives"
END:VEVENT
END:VCALENDAR
