BEGIN:VCALENDAR
VERSION:2.0
PRODID:-//Agenda Bulle//https://agendabulle.fr//
BEGIN:VEVENT
SUMMARY:Spring Tour Grenoble 2026
DTSTART;TZID=Europe/Paris:20260425T093000
DTEND;TZID=Europe/Paris:20260425T113000
DTSTAMP:20260424T091850Z
UID:0718604b805aec4836d13dc2c7cdd239@agendabulle.fr
DESCRIPTION:L’association Les Monkey Ultimate & Disc Golf Grenoble a le 
 plaisir d’accueillir l’un des plus gros tournois européen d’Ultimat
 e Frisbee en 2026\, à Sassenage\, dans la Métropole de Grenoble.\n\nCe t
 ournoi\, nommé SPRING TOUR\, accueillera 22 équipes européennes\, 10 f
 éminines et 12 mixtes en course pour la qualification aux Championnats d
 ’Europe des Clubs. Nous n'attendons pas moins de 400 joueurs et joueuses
  de 6 nationalités différentes pour s'affronter sur 68 matchs en tout. N
 os 50 bénévoles seront présents pour accueillir le public et faire vivr
 e les valeurs de mixités et de fair play que porte l'Ultimate. En août 2
 026\, l’équipe Mixte 1 du club grenoblois participera pour la deuxième
  fois aux championnats du Monde des Clubs : le Spring Tour sera la premiè
 re échéance internationale de la saison pour cette équipe !\nhttps://ww
 w.agendabulle.fr/event/2026/4/25/2533-spring-tour-grenoble-2026\nhttps://w
 ww.grenoble-tourisme.com/fr/decouvrir/evenements/agenda/detail/spring-tour
 -grenoble-2026-7722715/
IMAGE;VALUE=URI:https://www.agendabulle.fr/media/e978ebe0-5562-4fa7-803b-f
 e274a9ba0e5.jpg
LOCATION:Complexe Sportif Paul Vieux-Melchior\, 2 Rue Pierre de Coubertin\
 , 38360 Sassenage\, Sassenage
NAME:Spring Tour Grenoble 2026
END:VEVENT
END:VCALENDAR
