BEGIN:VCALENDAR
VERSION:2.0
PRODID:-//Agenda Bulle//https://agendabulle.fr//
BEGIN:VEVENT
SUMMARY:La Grande Tablée - Deuxième édition
DTSTART;TZID=Europe/Paris:20260425T090000
DTEND;TZID=Europe/Paris:20260425T110000
DTSTAMP:20260423T233233Z
UID:0436a502bfe2174d47709bb1a0e163f5@agendabulle.fr
DESCRIPTION:La 2e édition de La Grande Tablée arrive bientôt à Grenobl
 e. Ouverte à tous\, elle propose un repas convivial et des échanges sur 
 le bien manger et les injustices alimentaires. L’événement lance aussi
  une année d’actions et d’animations. Portée par la Régie de Quarti
 er de Grenoble et la Coordination Alimentation du secteur 6\, La Grande Ta
 blée est un événement ouvert à toutes et à tous\, où tout un chacun 
 se retrouvent le temps d’une journée pour partager un bon moment ensemb
 le autour d’un repas convivial et avoir des temps d'échange sur le : 
 “Bien manger\, ensemble : Agir face aux injustices alimentaires”. Cet 
 événement marque également le lancement d’une année d’actions et d
 ’animations\nhttps://www.agendabulle.fr/event/2026/4/25/2510-la-grande-t
 ablee-deuxieme-edition\nhttps://www.grenoble.fr/agenda/6346/79-la-grande-t
 ablee-deuxieme-edition.htm
LOCATION:Halle Iris\, 165 Gal de l'Arlequin\, 38100 Grenoble\, Grenoble
NAME:La Grande Tablée - Deuxième édition
END:VEVENT
END:VCALENDAR
