BEGIN:VCALENDAR
VERSION:2.0
PRODID:-//Agenda Bulle//https://agendabulle.fr//
BEGIN:VEVENT
SUMMARY:De Class' et de Jazz
DTSTART;TZID=Europe/Paris:20260425T200000
DTEND;TZID=Europe/Paris:20260425T220000
DTSTAMP:20260423T233233Z
UID:d17182c94230b0bd7d6e1f9c204c3a6d@agendabulle.fr
DESCRIPTION:Deux fois plus de souffle avec ce concert regroupant 2 ensembl
 es de saxophones de la région. Les Saxo'notes invitent About'Souffle pour
  un concert entre classique et Jazz. Elgar\, Coltrane\, Holst\, Reinhardt\
 , Albeniz\, Hancock... De quoi redécouvrir la variété sonore de cette g
 rande famille d'instruments créée il y a 180 ans par Monsieur Sax. 1 Rue
  du Vieux Temple 38000 Grenoble Secteur 2 Libre participation (conseillé 
 8€)\nhttps://www.agendabulle.fr/event/2026/4/25/2509-de-class-et-de-jazz
 \nhttps://www.grenoble.fr/agenda/6340/79-de-class-et-de-jazz.htm
LOCATION:Salle Olivier Messiaen\, Grenoble
NAME:De Class' et de Jazz
END:VEVENT
END:VCALENDAR
