BEGIN:VCALENDAR
VERSION:2.0
PRODID:-//Agenda Bulle//https://agendabulle.fr//
BEGIN:VEVENT
SUMMARY:Perds pas l'Nord ! - Ça (R)ira mieux demain
DTSTART;TZID=Europe/Paris:20260425T201500
DTEND;TZID=Europe/Paris:20260425T221500
DTSTAMP:20260423T233233Z
UID:1e4385ef10df657f23e694d7a32e17fb@agendabulle.fr
DESCRIPTION:“Mais tu veux faire un spectacle sur la fin du monde ?” En
 tre rire\, révolte et poésie\, la compagnie se met à chanter\, danser e
 t jouer de nos paradoxes\, nos failles et nous rappelle que nous cherchons
  avant tout des lendemains heureux. Ça (R)ira mieux demain est joué lors
  du festival "Perds Pas l'Nord !" pensé et organisé par La MADRE. Notre 
 festival ”Perds Pas l’Nord !” est un élan collectif : spectacles\, 
 animations\, débats et projections pour créer des espaces vivants et res
 sentir\, partager\, expérimenter d’autres possibles. La MADRE est une a
 ssociation d’éducation populaire à la croisée des questions sociales 
 et environnementales. Essayons de mieux comprendre ce monde en plein boule
 versement et imaginons des réponses pour demain ! La boussole est notre r
 epère pour ne pas perdre le cap\, pour inventer d’autres trajectoires e
 t rechercher ensemble des réponses concrètes et lucides. 30 bis\, avenue
  Marcelin Berthelot\, 38100 Grenoble Secteur 4\nhttps://www.agendabulle.fr
 /event/2026/4/25/2508-perds-pas-lnord-ca-rira-mieux-demain\nhttps://www.gr
 enoble.fr/agenda/6152/79-perds-pas-l-nord-ca-r-ira-mieux-demain.htm
IMAGE;VALUE=URI:https://www.agendabulle.fr/media/021f6650-c472-4ba7-bc5b-5
 9a838aebd17.jpg
LOCATION:La Correspondance\, 30 bis\, avenue Marcelin Berthelot\, 38100 Gr
 enoble\, Grenoble
NAME:Perds pas l'Nord ! - Ça (R)ira mieux demain
END:VEVENT
END:VCALENDAR
