BEGIN:VCALENDAR
VERSION:2.0
PRODID:-//Agenda Bulle//https://agendabulle.fr//
BEGIN:VEVENT
SUMMARY:Valter Maggi : un scientifique italien en Antarctique
DTSTART;TZID=Europe/Paris:20260425T170000
DTEND;TZID=Europe/Paris:20260425T190000
DTSTAMP:20260423T233233Z
UID:4bfd8a306fc08566d36ff0690f3bae0f@agendabulle.fr
DESCRIPTION:Onda Italia a le privilège d’accueillir Valter Maggi\, l’
 un des plus grands spécialistes italiens de l’Antarctique. À travers s
 es récits captivants et ses découvertes scientifiques\, il nous fera exp
 lorer les mystères de ce continent glacé\, véritable laboratoire nature
 l pour comprendre notre planète. Au-delà des glaces\, vie\, défis et re
 cherche à la base italienne en Antarctique ! Lors de cette rencontre\, Va
 lter Maggi partagera ses recherches\, ses expériences sur le terrain et s
 a vision des défis environnementaux à venir. Une occasion unique d’éc
 hanger avec un expert passionné et de mieux comprendre les enjeux scienti
 fiques et climatiques de cette région fascinante.\nhttps://www.agendabull
 e.fr/event/2026/4/25/2507-valter-maggi-un-scientifique-italien-en-antarcti
 que\nhttps://www.grenoble.fr/agenda/6024/484-valter-maggi-un-scientifique-
 italien-en-antarctique.htm
IMAGE;VALUE=URI:https://www.agendabulle.fr/media/3d000d26-2aff-4fe5-885f-1
 e22523a0f6f.jpg
LOCATION:Maison de la Vie Associative et Citoyenne\, 6 Rue Berthe de Boiss
 ieux 38000 Grenoble\, Grenoble
NAME:Valter Maggi : un scientifique italien en Antarctique
END:VEVENT
END:VCALENDAR
