BEGIN:VCALENDAR
VERSION:2.0
PRODID:-//Agenda Bulle//https://agendabulle.fr//
BEGIN:VEVENT
SUMMARY:Portes ouvertes à L'éléfàn
DTSTART;TZID=Europe/Paris:20260425T100000
DTEND;TZID=Europe/Paris:20260425T120000
DTSTAMP:20260423T233233Z
UID:79a255cd18784905521039de1dae7f2d@agendabulle.fr
DESCRIPTION:Pour consommer autrement\, de manière responsable à travers 
 une alternative à la grande distribution\, viens découvrir le seul super
 marché participatif grenoblois ! Tu pourras y faire des courses même si 
 tu n’es pas adhérent.e à l'association ! Ces Portes Ouvertes ont lieu 
 dans le cadre des 48H de l'Agriculture Urbaine coordonnées par l'associat
 ion Cultivons! Pour consommer autrement\, de manière responsable à trave
 rs une alternative à la grande distribution\, viens découvrir le seul su
 permarché participatif grenoblois ! Tu pourras y faire des courses même 
 si tu n’es pas adhérent.e à l'association. Crée en 2016\, L'éléfàn
  est un supermarché participatif\, géré et gouverné par ses membres. U
 n projet éthique\, qui permet de redonner du sens à nos actes de consomm
 ation. C'est un supermarché responsable\, qui permet d'accompagner la tra
 nsition alimentaire sur le territoire métropolitain grenoblois. Viens seu
 l.e\, entre ami.es ou en famille\, et n’oublie pas ton panier !\nhttps:/
 /www.agendabulle.fr/event/2026/4/25/2506-portes-ouvertes-a-lelefan\nhttps:
 //www.grenoble.fr/agenda/6358/79-portes-ouvertes-a-l-elefan.htm
IMAGE;VALUE=URI:https://www.agendabulle.fr/media/9d3cb6f9-d40a-44c5-9c5e-2
 65bf4f4f917.jpg
LOCATION:La Correspondance\, 30 bis\, avenue Marcelin Berthelot\, 38100 Gr
 enoble\, Grenoble
NAME:Portes ouvertes à L'éléfàn
END:VEVENT
END:VCALENDAR
