BEGIN:VCALENDAR
VERSION:2.0
PRODID:-//Agenda Bulle//https://agendabulle.fr//
BEGIN:VEVENT
SUMMARY:Journée portes ouvertes nature en ville au centre horticole
DTSTART;TZID=Europe/Paris:20260425T100000
DTEND;TZID=Europe/Paris:20260425T120000
DTSTAMP:20260423T233232Z
UID:43a32a4eedf0db5aa7cfcce7314bd3b7@agendabulle.fr
DESCRIPTION:La Direction Nature en Ville ouvre ses portes au centre hortic
 ole ! Venez découvrir les coulisses de ce lieu\, rencontrer les acteurs 
 qui œuvrent au quotidien pour la nature en ville dans un cadre verdoyant 
 au bord de l’Isère ! De nombreuses animations\, visites et stands (gra
 tuits) auront lieu tout au long de la journée. Rue des Taillées Saint Ma
 rtin d'Hères\nhttps://www.agendabulle.fr/event/2026/4/25/2504-journee-por
 tes-ouvertes-nature-en-ville-au-centre-horticole\nhttps://www.grenoble.fr/
 agenda/6222/79-journee-portes-ouvertes-nature-en-ville-au-centre-horticole
 .htm
IMAGE;VALUE=URI:https://www.agendabulle.fr/media/988b7d65-2b08-407b-9860-a
 0e9baff1814.jpg
LOCATION:/!\\ à vérifier sur la page source /!\\\, Grenoble
NAME:Journée portes ouvertes nature en ville au centre horticole
END:VEVENT
END:VCALENDAR
