BEGIN:VCALENDAR
VERSION:2.0
PRODID:-//Agenda Bulle//https://agendabulle.fr//
BEGIN:VEVENT
SUMMARY:La grande table végétale
DTSTART;TZID=Europe/Paris:20260425T120000
DTEND;TZID=Europe/Paris:20260425T140000
DTSTAMP:20260423T233231Z
UID:185fd552301e7ff8e0be09944d34bd7a@agendabulle.fr
DESCRIPTION:Retrouvez au Jardin de Ville la 2nde édition de notre Grande 
 Table Végétale . Ce grand évènement\, dont la 1ere édition s'est dér
 oulée en 2025\, a pour ambition de faire se rencontrer les gens\, de tout
 es conditions ou origines socio-culturelles\, notamment les personnes en s
 ituation de précarité\, en leur offrant un repas 100% végétal qui sera
  partagé sur de grandes tables mises à leur disposition. Ce sera aussi l
 'occasion de montrer qu'on peut se nourrir de façon exclusivement végét
 ale\, donc sans souffrance animale\, tout se faisant plaisir. Cette année
 \, ce sont 250 repas gratuits qui seront distribués au Jardin de Ville le
  25 avril prochain\, entre 12h et 15h ! Avec aux fourneaux les acteurs de 
 la restauration végétale iséroise Loreley Food \, Meraki et Café Canne
 lle. Cette nouvelle édition a pu être possible grâce à des subventions
  de la Ville de Grenoble : Service Restauration & Alimentation et Fonds de
  Participation des Habitants qui ont été particulièrement sensibles à 
 notre projet. 5 Jardin de Ville 38000 Grenoble Secteur 2\nhttps://www.agen
 dabulle.fr/event/2026/4/25/2498-la-grande-table-vegetale\nhttps://www.gren
 oble.fr/agenda/6356/79-la-grande-table-vegetale.htm
IMAGE;VALUE=URI:https://www.agendabulle.fr/media/c4dde8ad-5586-4d42-ac4d-e
 81c96bf0b58.jpg
LOCATION:Jardin de Ville\, Grenoble
NAME:La grande table végétale
END:VEVENT
END:VCALENDAR
