BEGIN:VCALENDAR
VERSION:2.0
PRODID:-//AgendaBulle//https://agendabulle.fr//
BEGIN:VEVENT
SUMMARY:Atelier créatif Patriarchie : Une brève histoire des règles
DTSTART;TZID=Europe/Paris:20260425T150000
DTEND;TZID=Europe/Paris:20260425T170000
DTSTAMP:20260422T224447Z
UID:5ea7bb6cdbd0089c1e33151f294c48ec@agendabulle.fr
DESCRIPTION:Atelier créatif avec l'association Patriarchie™ et Pauline 
 Rochette.\n\n- 15h : Brève Histoire des règles avec Patriarchie. Y-avait
 -il des cups menstruelles dans l’Antiquité ? Les nazis ont-ils inventé
  le tampon applicateur ? Patriarchie répond aux questions que personne ne
  se pose !\n\n- 15h45 : initiation aux crayons aquarellables avec Pauline 
 « Ça fait faner les fleurs et tourner la mayonnaise ». Illustre les lé
 gendes autour des règles\, de l’Antiquité à aujourd’hui.\n\nC'est o
 uvert à tout le monde\, gratuit sur inscription\n\nÀ la Bibliothèque d'
 Étude et du Patrimoine Grenoble\nhttp://www.agendabulle.fr/event/2026/4/2
 5/2462-atelier-creatif-patriarchie-une-breve-histoire-des-regles\nhttps://
 www.le-tamis.info/evenement/atelier-creatif-patriarchie-une-breve-histoire
 -des
LOCATION:Bibliothèque d'Etude et du Patrimoine\, 12 boulevard Maréchal L
 yautey\, grenoble
NAME:Atelier créatif Patriarchie : Une brève histoire des règles
END:VEVENT
END:VCALENDAR
